{"text_format":"2","workbook":"xlsx","n_sheets":1,"sheets":["Sheet1"],"not_rendered":{"charts":0,"images":0,"macros":0,"external_links":1,"defined_names":1,"comments":0,"pivot_tables":0},"unopened":[],"bounds":{"document_bytes":16777216,"sheet_cells":100000,"run_cost":"one","rows_first":2000,"rows_last":500,"rows_between":2000,"halvings":0,"cell_chars":16384,"cell_head_chars":4096},"cells_cut":0,"cells_raw":0,"read":"whole","date_system":"1900"}

{"sheet":"Sheet1","index":0,"n_rows":295,"n_cols":64,"rows_kept":295,"cut":false,"hidden":false,"merged":[[293,53,293,63],[292,53,292,55],[292,56,292,57],[292,58,292,63],[293,0,294,2],[293,3,293,7],[293,8,293,12],[293,13,293,17],[293,18,293,22],[293,23,293,27],[289,33,291,39],[289,40,289,43],[289,44,291,50],[290,3,290,17],[290,18,290,21],[290,29,290,32],[290,40,290,43],[291,3,291,17],[291,18,291,21],[291,29,291,32],[294,33,294,37],[294,38,294,42],[294,43,294,47],[294,48,294,52],[294,53,294,63],[294,3,294,7],[294,8,294,12],[294,13,294,17],[294,18,294,22],[294,23,294,27],[294,28,294,32],[293,28,293,32],[293,33,293,37],[282,3,282,6],[282,7,285,14],[282,15,282,18],[282,19,285,26],[282,27,282,30],[285,1,285,2],[287,33,287,35],[287,36,287,39],[287,40,287,43],[287,44,287,46],[287,47,287,50],[288,22,288,28],[288,33,288,39],[288,44,288,50],[287,0,291,2],[287,3,288,17],[287,18,287,21],[287,22,287,24],[287,25,287,28],[287,29,287,32],[289,3,289,17],[289,18,289,21],[289,22,291,28],[289,29,289,32],[291,40,291,43],[293,38,293,42],[293,43,293,47],[293,48,293,52],[280,59,280,62],[281,7,281,14],[281,19,281,26],[281,31,281,38],[281,43,281,50],[281,55,281,62],[280,23,280,26],[280,27,280,30],[280,31,280,34],[280,35,280,38],[280,39,280,42],[280,43,280,46],[285,39,285,42],[285,51,285,54],[286,1,286,2],[286,3,286,14],[286,15,286,26],[286,27,286,38],[286,39,286,50],[286,51,286,62],[283,51,283,54],[284,1,284,2],[284,3,284,6],[284,15,284,18],[284,27,284,30],[284,39,284,42],[284,51,284,54],[282,31,285,38],[282,39,282,42],[282,43,285,50],[282,51,282,54],[282,55,285,62],[279,33,279,38],[279,39,279,44],[279,45,279,50],[279,51,279,56],[280,0,286,0],[280,3,280,6],[280,7,280,10],[280,11,280,14],[280,15,280,18],[280,19,280,22],[278,33,278,38],[278,39,278,44],[278,45,278,50],[278,51,278,56],[279,1,279,2],[279,3,279,8],[279,9,279,14],[279,15,279,20],[279,21,279,26],[279,27,279,32],[285,3,285,6],[285,15,285,18],[285,27,285,30],[280,47,280,50],[280,51,280,54],[280,55,280,58],[283,1,283,2],[283,3,283,6],[283,15,283,18],[283,27,283,30],[283,39,283,42],[282,1,282,2],[273,1,273,2],[273,3,273,8],[273,9,273,14],[273,15,273,20],[273,21,273,26],[273,27,273,32],[273,33,273,38],[272,9,272,14],[272,15,272,20],[272,21,272,26],[272,27,272,32],[272,33,272,38],[277,33,277,38],[277,39,277,44],[277,45,277,50],[277,51,277,56],[278,1,278,2],[278,3,278,8],[278,9,278,14],[278,15,278,20],[278,21,278,26],[278,27,278,32],[277,1,277,2],[277,3,277,8],[277,9,277,14],[277,15,277,20],[277,21,277,26],[277,27,277,32],[275,45,275,56],[276,21,276,26],[276,27,276,32],[276,33,276,38],[271,3,271,8],[271,9,271,14],[271,15,271,20],[271,21,271,26],[271,27,271,32],[271,33,271,38],[273,39,273,44],[273,45,273,50],[273,51,273,56],[258,3,258,17],[269,45,269,47],[269,48,269,50],[269,51,269,56],[274,3,274,20],[274,21,274,56],[275,3,276,8],[275,9,276,14],[275,15,276,20],[275,21,275,32],[275,33,275,44],[272,39,272,44],[272,45,272,50],[272,51,272,56],[276,39,276,44],[276,45,276,50],[276,51,276,56],[270,0,279,0],[270,3,270,8],[270,9,270,14],[270,15,270,20],[270,21,270,26],[270,27,270,32],[270,33,270,38],[266,3,266,17],[266,18,266,23],[266,60,266,63],[267,3,267,17],[267,18,267,23],[267,60,267,63],[263,18,263,23],[263,60,263,63],[264,3,264,17],[264,18,264,23],[264,60,264,63],[265,2,267,2],[265,3,265,17],[265,18,265,23],[265,24,267,59],[265,60,265,63],[271,39,271,44],[271,45,271,50],[271,51,271,56],[272,1,272,2],[272,3,272,8],[270,39,270,44],[270,45,270,50],[270,51,270,56],[271,1,271,2],[252,60,252,63],[253,3,253,17],[253,18,253,23],[261,3,261,17],[261,18,261,23],[261,60,261,63],[262,1,267,1],[262,2,264,2],[262,3,262,17],[262,18,262,23],[262,24,264,59],[262,60,262,63],[263,3,263,17],[258,18,258,23],[258,60,258,63],[259,2,261,2],[259,3,259,17],[259,18,259,23],[259,24,261,59],[259,60,259,63],[260,3,260,17],[260,18,260,23],[260,60,260,63],[256,1,261,1],[256,2,258,2],[256,3,256,17],[256,18,256,23],[256,24,258,59],[256,60,256,63],[257,3,257,17],[257,18,257,23],[257,60,257,63],[248,18,248,23],[248,60,248,63],[249,3,249,17],[249,18,249,23],[249,60,249,63],[250,3,250,17],[250,18,250,23],[250,60,250,63],[246,1,255,1],[246,2,250,2],[246,3,246,17],[246,18,246,23],[246,24,250,59],[246,60,246,63],[247,3,247,17],[247,18,247,23],[247,60,247,63],[248,3,248,17],[253,60,253,63],[254,3,254,17],[254,18,254,23],[254,60,254,63],[255,3,255,17],[255,18,255,23],[255,60,255,63],[251,2,255,2],[251,3,251,17],[251,18,251,23],[251,24,255,59],[251,60,251,63],[252,3,252,17],[252,18,252,23],[244,0,245,2],[244,3,245,17],[244,18,245,23],[244,24,245,29],[244,30,244,63],[245,30,245,36],[245,37,245,43],[245,44,245,52],[245,53,245,59],[245,60,245,63],[241,3,241,17],[241,18,241,23],[242,3,242,17],[242,18,242,23],[243,3,243,17],[243,18,243,23],[238,3,238,17],[238,18,238,23],[239,3,239,17],[239,18,239,23],[240,3,240,17],[240,18,240,23],[228,2,243,2],[212,1,243,1],[212,2,227,2],[212,3,212,17],[212,18,212,23],[235,3,235,17],[235,18,235,23],[236,3,236,17],[236,18,236,23],[237,3,237,17],[237,18,237,23],[228,24,243,63],[229,3,229,17],[229,18,229,23],[230,3,230,17],[230,18,230,23],[231,3,231,17],[231,18,231,23],[232,3,232,17],[232,18,232,23],[233,3,233,17],[226,3,226,17],[226,18,226,23],[227,3,227,17],[227,18,227,23],[228,3,228,17],[228,18,228,23],[233,18,233,23],[234,3,234,17],[234,18,234,23],[212,24,227,63],[213,3,213,17],[213,18,213,23],[210,0,211,2],[210,3,211,17],[210,18,211,23],[210,24,211,29],[210,30,210,63],[211,30,211,36],[211,37,211,43],[223,3,223,17],[223,18,223,23],[224,3,224,17],[224,18,224,23],[225,3,225,17],[225,18,225,23],[220,3,220,17],[220,18,220,23],[221,3,221,17],[221,18,221,23],[222,3,222,17],[222,18,222,23],[217,3,217,17],[217,18,217,23],[218,3,218,17],[218,18,218,23],[219,3,219,17],[219,18,219,23],[207,24,207,43],[207,44,207,63],[204,3,204,10],[204,11,204,18],[204,19,204,23],[204,24,204,43],[204,44,204,63],[205,3,205,10],[205,11,205,18],[205,19,205,23],[205,24,205,43],[205,44,205,63],[214,3,214,17],[214,18,214,23],[215,3,215,17],[215,18,215,23],[216,3,216,17],[216,18,216,23],[211,44,211,52],[211,53,211,59],[211,60,211,63],[209,53,209,55],[209,56,209,57],[209,58,209,63],[194,15,194,18],[194,19,194,63],[195,3,195,10],[195,11,195,14],[195,15,195,18],[195,19,195,63],[202,3,202,10],[202,11,202,14],[202,15,202,18],[202,19,202,63],[203,0,207,2],[203,3,203,10],[203,11,203,18],[203,19,203,23],[203,24,203,43],[203,44,203,63],[200,3,200,10],[200,11,200,14],[200,15,200,18],[200,19,200,63],[201,3,201,10],[201,11,201,14],[201,15,201,18],[201,19,201,63],[206,3,206,10],[206,11,206,18],[206,19,206,23],[206,24,206,43],[206,44,206,63],[207,3,207,10],[207,11,207,18],[207,19,207,23],[193,3,193,10],[193,11,193,14],[193,15,193,18],[193,19,193,63],[190,0,202,2],[190,3,190,10],[190,11,190,14],[190,15,190,18],[190,19,190,63],[191,3,191,10],[191,11,191,14],[191,15,191,18],[191,19,191,63],[192,3,192,10],[198,3,198,10],[198,11,198,14],[198,15,198,18],[198,19,198,63],[199,3,199,10],[199,11,199,14],[199,15,199,18],[199,19,199,63],[196,3,196,10],[196,11,196,14],[196,15,196,18],[196,19,196,63],[197,3,197,10],[197,11,197,14],[197,15,197,18],[197,19,197,63],[194,3,194,10],[194,11,194,14],[189,3,189,10],[189,11,189,14],[189,15,189,18],[189,19,189,22],[189,23,189,63],[186,3,186,10],[186,11,186,14],[186,15,186,18],[186,19,186,22],[186,23,186,63],[187,3,187,10],[187,11,187,14],[187,15,187,18],[187,19,187,22],[187,23,187,63],[192,11,192,14],[192,15,192,18],[192,19,192,63],[185,11,185,14],[185,15,185,18],[185,19,185,22],[185,23,185,63],[182,3,182,10],[182,11,182,14],[182,15,182,18],[182,19,182,22],[182,23,182,63],[183,3,183,10],[183,11,183,14],[183,15,183,18],[183,19,183,22],[183,23,183,63],[188,3,188,10],[188,11,188,14],[188,15,188,18],[188,19,188,22],[188,23,188,63],[180,3,180,10],[180,11,180,14],[180,15,180,18],[180,19,180,22],[180,23,180,63],[181,3,181,10],[181,11,181,14],[181,15,181,18],[181,19,181,22],[181,23,181,63],[178,23,178,63],[179,3,179,10],[179,11,179,14],[179,15,179,18],[179,19,179,22],[179,23,179,63],[177,0,189,2],[177,3,177,10],[177,11,177,14],[177,15,177,18],[177,19,177,22],[177,23,177,63],[178,3,178,10],[178,11,178,14],[178,15,178,18],[178,19,178,22],[184,3,184,10],[184,11,184,14],[184,15,184,18],[184,19,184,22],[184,23,184,63],[185,3,185,10],[176,1,176,2],[176,3,176,6],[176,7,176,10],[176,11,176,14],[176,15,176,18],[176,19,176,22],[174,15,174,18],[174,19,174,22],[175,1,175,2],[175,3,175,6],[175,7,175,10],[175,11,175,14],[175,15,175,18],[175,19,175,22],[172,3,172,13],[172,14,172,22],[172,23,172,31],[172,32,172,37],[173,0,174,2],[173,3,174,6],[173,7,173,14],[173,15,173,22],[174,7,174,10],[174,11,174,14],[170,3,170,13],[170,14,170,22],[170,23,170,31],[170,32,170,37],[171,3,171,13],[171,14,171,22],[171,23,171,31],[171,32,171,37],[168,3,168,13],[168,14,168,22],[168,23,168,31],[168,32,168,37],[169,3,169,13],[169,14,169,22],[169,23,169,31],[169,32,169,37],[166,3,166,13],[166,14,166,22],[166,23,166,31],[166,32,166,37],[167,3,167,13],[167,14,167,22],[167,23,167,31],[167,32,167,37],[164,3,164,13],[164,14,164,22],[164,23,164,31],[164,32,164,37],[165,3,165,13],[165,14,165,22],[165,23,165,31],[165,32,165,37],[162,3,162,13],[162,14,162,22],[162,23,162,31],[162,32,162,37],[163,3,163,13],[163,14,163,22],[163,23,163,31],[163,32,163,37],[161,3,161,13],[161,14,161,22],[161,23,161,31],[161,32,161,37],[158,3,158,13],[158,14,158,22],[158,23,158,31],[158,32,158,37],[159,3,159,13],[159,14,159,22],[159,23,159,31],[159,32,159,37],[156,23,156,31],[156,32,156,37],[157,3,157,13],[157,14,157,22],[157,23,157,31],[157,32,157,37],[155,3,155,13],[155,14,155,22],[155,23,155,31],[155,32,155,37],[152,23,152,31],[152,32,152,37],[153,3,153,13],[153,14,153,22],[153,23,153,31],[153,32,153,37],[151,3,151,7],[151,14,151,17],[151,19,151,22],[152,0,172,2],[152,3,152,13],[152,14,152,22],[154,3,154,13],[154,14,154,22],[156,3,156,13],[156,14,156,22],[130,23,151,63],[126,0,151,2],[126,3,126,5],[126,6,126,8],[127,3,127,5],[127,6,127,8],[128,3,129,7],[128,8,129,13],[160,3,160,13],[160,14,160,22],[160,23,160,31],[160,32,160,37],[150,3,150,7],[150,14,150,17],[150,19,150,22],[147,3,147,7],[147,14,147,17],[147,19,147,22],[148,3,148,7],[148,14,148,17],[148,19,148,22],[145,3,145,7],[145,14,145,17],[145,19,145,22],[146,3,146,7],[146,14,146,17],[146,19,146,22],[154,23,154,31],[154,32,154,37],[144,14,144,17],[144,19,144,22],[141,3,141,7],[141,14,141,17],[141,19,141,22],[142,3,142,7],[142,14,142,17],[142,19,142,22],[139,3,139,7],[139,14,139,17],[139,19,139,22],[140,3,140,7],[140,14,140,17],[140,19,140,22],[149,3,149,7],[149,14,149,17],[149,19,149,22],[136,14,136,17],[136,19,136,22],[137,3,137,7],[137,14,137,17],[137,19,137,22],[138,3,138,7],[138,14,138,17],[138,19,138,22],[133,14,133,17],[133,19,133,22],[134,3,134,7],[134,14,134,17],[134,19,134,22],[135,3,135,7],[135,14,135,17],[135,19,135,22],[130,14,130,17],[130,19,130,22],[131,3,131,7],[131,14,131,17],[131,19,131,22],[132,3,132,7],[132,14,132,17],[132,19,132,22],[133,3,133,7],[130,3,130,7],[130,8,151,13],[136,3,136,7],[143,3,143,7],[143,14,143,17],[143,19,143,22],[144,3,144,7],[128,59,129,61],[128,62,129,63],[129,23,129,25],[129,26,129,28],[129,29,129,31],[129,35,129,37],[129,38,129,40],[129,41,129,43],[129,44,129,46],[129,47,129,49],[128,14,129,22],[128,23,128,31],[128,32,129,34],[128,35,128,52],[128,53,129,55],[128,56,129,58],[129,50,129,52],[124,31,125,63],[125,3,125,10],[125,18,125,23],[125,25,125,30],[122,55,123,57],[122,58,123,60],[123,31,123,33],[123,34,123,36],[123,37,123,39],[123,40,123,42],[121,11,123,17],[121,18,123,30],[121,31,121,51],[121,52,123,54],[121,55,121,60],[121,61,123,63],[122,31,122,42],[122,43,123,45],[122,46,123,48],[122,49,123,51],[119,0,125,2],[119,3,119,5],[119,6,119,8],[120,3,120,5],[120,6,120,8],[121,3,123,10],[124,3,124,10],[117,3,117,6],[117,7,117,11],[117,17,117,20],[117,22,117,25],[118,3,118,6],[118,7,118,11],[118,17,118,20],[118,22,118,25],[115,3,115,6],[115,7,115,11],[115,17,115,20],[115,22,115,25],[116,3,116,6],[116,7,116,11],[116,17,116,20],[116,22,116,25],[124,11,125,17],[124,18,124,23],[124,25,124,30],[108,53,108,55],[108,56,108,58],[107,17,108,25],[107,26,107,34],[107,35,107,46],[107,47,108,49],[107,50,107,61],[107,62,108,63],[108,26,108,28],[108,29,108,31],[108,32,108,34],[108,35,108,37],[113,3,113,6],[113,7,113,11],[113,17,113,20],[113,22,113,25],[114,3,114,6],[114,7,114,11],[114,17,114,20],[114,22,114,25],[110,22,110,25],[111,3,111,6],[111,7,111,11],[111,17,111,20],[111,22,111,25],[112,3,112,6],[112,7,112,11],[112,17,112,20],[112,22,112,25],[103,3,103,6],[103,8,103,62],[105,0,118,2],[105,3,105,5],[105,6,105,8],[106,3,106,5],[106,6,106,8],[107,3,108,6],[107,7,108,11],[107,12,108,16],[95,25,95,39],[95,40,95,50],[95,51,95,63],[96,3,96,8],[96,9,96,24],[96,25,96,39],[96,40,96,50],[96,51,96,63],[108,59,108,61],[109,3,109,6],[109,7,109,11],[109,12,118,16],[109,17,109,20],[109,22,109,25],[109,26,118,63],[110,3,110,6],[110,7,110,11],[110,17,110,20],[108,38,108,40],[108,41,108,43],[108,44,108,46],[108,50,108,52],[92,3,92,6],[92,8,92,62],[94,0,96,2],[94,3,94,8],[94,9,94,24],[94,25,94,39],[94,40,94,50],[94,51,94,63],[95,3,95,8],[95,9,95,24],[87,51,87,63],[88,3,88,8],[88,9,88,24],[88,25,88,39],[88,40,88,50],[88,51,88,63],[86,0,88,2],[86,3,86,8],[86,9,86,24],[86,25,86,39],[86,40,86,50],[86,51,86,63],[87,3,87,8],[87,9,87,24],[87,25,87,39],[87,40,87,50],[64,25,64,39],[64,40,64,50],[80,3,80,63],[81,3,81,63],[82,3,82,63],[83,3,83,63],[84,3,84,6],[84,8,84,62],[74,3,74,63],[75,3,75,63],[76,3,76,63],[77,3,77,63],[78,3,78,63],[79,3,79,63],[68,3,68,62],[69,3,69,63],[70,3,70,63],[71,3,71,63],[72,3,72,63],[73,3,73,63],[60,2,62,2],[60,3,60,30],[60,31,60,39],[60,40,60,42],[60,43,60,50],[60,51,60,55],[60,56,60,57],[61,3,61,30],[66,3,66,8],[66,9,66,24],[66,25,66,39],[66,40,66,50],[66,51,66,63],[67,3,67,8],[67,9,67,24],[67,25,67,39],[67,40,67,50],[67,51,67,63],[64,51,64,63],[65,3,65,8],[65,9,65,24],[65,25,65,39],[65,40,65,50],[65,51,65,63],[63,0,67,2],[63,3,63,8],[63,9,63,24],[63,25,63,39],[63,40,63,50],[63,51,63,63],[64,3,64,8],[64,9,64,24],[57,51,57,55],[57,56,57,57],[57,58,62,60],[58,3,58,30],[58,31,58,39],[58,40,58,42],[58,43,58,50],[58,51,58,55],[58,56,58,57],[59,3,59,30],[57,1,62,1],[57,2,59,2],[57,3,57,30],[57,31,57,39],[57,40,57,42],[57,43,57,50],[59,31,59,39],[59,40,59,42],[59,43,59,50],[61,31,61,39],[61,40,61,42],[61,43,61,50],[61,51,61,55],[61,56,61,57],[62,3,62,30],[62,31,62,39],[62,40,62,42],[62,43,62,50],[62,51,62,55],[62,56,62,57],[59,51,59,55],[59,56,59,57],[53,51,53,55],[53,56,53,57],[52,3,52,30],[52,31,52,39],[52,40,52,42],[52,43,52,50],[52,51,52,55],[52,56,52,57],[51,3,51,30],[51,31,51,39],[51,40,51,42],[51,43,51,50],[51,51,51,55],[51,56,51,57],[56,3,56,30],[56,31,56,39],[56,40,56,42],[56,43,56,50],[56,51,56,55],[56,56,56,57],[55,3,55,30],[55,31,55,39],[55,40,55,42],[55,43,55,50],[55,51,55,55],[55,56,55,57],[54,3,54,30],[54,31,54,39],[54,40,54,42],[54,43,54,50],[54,51,54,55],[54,56,54,57],[48,3,48,30],[44,51,44,55],[44,56,44,57],[44,58,56,60],[44,61,62,63],[45,3,45,30],[45,31,45,39],[45,40,45,42],[45,43,45,50],[45,51,45,55],[45,56,45,57],[49,56,49,57],[50,3,50,30],[50,31,50,39],[50,40,50,42],[50,43,50,50],[50,51,50,55],[50,56,50,57],[48,31,48,39],[48,40,48,42],[48,43,48,50],[48,51,48,55],[48,56,48,57],[49,3,49,30],[49,31,49,39],[49,40,49,42],[49,43,49,50],[49,51,49,55],[53,3,53,30],[53,31,53,39],[53,40,53,42],[53,43,53,50],[44,1,56,1],[44,2,46,2],[44,3,44,30],[44,31,44,39],[44,40,44,42],[44,43,44,50]],"merged_total":1254,"flags":["merged_cut"]}
["社会福祉法人現況報告書"]
[{"$nulls":24},"平成",null,null,null,{"$f":"IF([1]①現況報告書!AC2=\"\",\"\",[1]①現況報告書!AC2)","v":27},null,null,"年４月１日現在"]
[]
["Ⅰ 基本情報"]
["所轄庁",null,null,"　福　山　市"]
["法人名",null,null,{"$f":"IF([1]①現況報告書!D6=\"\",\"\",[1]①現況報告書!D6)","v":"社会福祉法人みんなが地域で生きるためのがまのほ"},{"$nulls":12},"主たる事務所の所在地",null,null,"〒",{"$f":"IF([1]①現況報告書!U6=\"\",\"\",[1]①現況報告書!U6)","v":"729"},null,"-",{"$f":"IF([1]①現況報告書!X6=\"\",\"\",[1]①現況報告書!X6)","v":"3102"},null,{"$f":"IF([1]①現況報告書!Z6=\"\",\"\",[1]①現況報告書!Z6)","v":"福山市新市町相方１１７２－１"},{"$nulls":10},"電話番号",null,null,{"$f":"IF([1]①現況報告書!AN6=\"\",\"\",[1]①現況報告書!AN6)","v":"0847"},null,null,"－",{"$f":"IF([1]①現況報告書!AR6=\"\",\"\",[1]①現況報告書!AR6)","v":"52"},null,null,"－",{"$f":"IF([1]①現況報告書!AV6=\"\",\"\",[1]①現況報告書!AV6)","v":"4130"},null,null,"FAX番号",null,null,{"$f":"IF([1]①現況報告書!BB6=\"\",\"\",[1]①現況報告書!BB6)","v":"0847"},null,null,"－",{"$f":"IF([1]①現況報告書!BF6=\"\",\"\",[1]①現況報告書!BF6)","v":"52"},null,null,"－",{"$f":"IF([1]①現況報告書!BJ6=\"\",\"\",[1]①現況報告書!BJ6)","v":"5401"}]
["ホームページアドレス",null,null,{"$f":"IF([1]①現況報告書!D7=\"\",\"\",[1]①現況報告書!D7)","v":"http://www.gamanoho.jp/"},{"$nulls":12},"メールアドレス",null,null,{"$f":"IF([1]①現況報告書!T7=\"\",\"\",[1]①現況報告書!T7)","v":"gamanoho@ms4.megaegg.ne.jp"},{"$nulls":12},"設立認可年月日",null,null,{"$f":"IF([1]①現況報告書!AJ7=\"\",\"\",[1]①現況報告書!AJ7)","v":"2001-09-26"},{"$nulls":12},"設立登記年月日",null,null,{"$f":"IF([1]①現況報告書!AZ7=\"\",\"\",[1]①現況報告書!AZ7)","v":"2001-09-27"}]
["代表者",null,null,"氏名",{"$nulls":9},"年齢",{"$nulls":6},"住所",{"$nulls":14},"職業",{"$nulls":7},"就任年月日"]
[{"$nulls":13},"公表/非公表",{"$nulls":6},"公表/非公表"]
[null,null,null,{"$f":"IF([1]①現況報告書!D10=\"\",\"\",[1]①現況報告書!D10)","v":"横山　美智子"},{"$nulls":9},"非公表",{"$nulls":6},"非公表",{"$nulls":22},{"$f":"IF([1]①現況報告書!AR10=\"\",\"\",[1]①現況報告書!AR10)","v":"2014-03-29"}]
[]
["Ⅱ 事業"]
["社会福祉事業",null,null,"種類",{"$nulls":27},"施設名・事業所名",{"$nulls":11},"所在地\n",{"$nulls":7},"事業開始\n年月日",{"$nulls":4},"定員",null,"実施形態"]
[{"$nulls":40},"公表/非公表",{"$nulls":17},"各分野の事業が同一施設（敷地）で実施",null,null,"全ての事業が同一施設（敷地）で実施"]
[null,"児童福祉","第一種",{"$f":"IF([1]①現況報告書!D15=\"\",\"\",[1]①現況報告書!D15)","v":""},{"$nulls":27},{"$f":"IF([1]①現況報告書!AF15=\"\",\"\",[1]①現況報告書!AF15)","v":""},{"$nulls":8},{"$f":"IF([1]①現況報告書!AO15=\"\",\"\",[1]①現況報告書!AO15)","v":""},null,null,{"$f":"IF([1]①現況報告書!AR15=\"\",\"\",[1]①現況報告書!AR15)","v":""},{"$nulls":7},{"$f":"IF([1]①現況報告書!AZ15=\"\",\"\",[1]①現況報告書!AZ15)","v":""},{"$nulls":4},{"$f":"IF([1]①現況報告書!BE15=\"\",\"\",[1]①現況報告書!BE15)","v":""},null,{"$f":"IF([1]①現況報告書!BG15=\"\",\"\",[1]①現況報告書!BG15)","v":""},null,null,{"$f":"IF([1]①現況報告書!BJ15=\"\",\"\",[1]①現況報告書!BJ15)","v":""}]
[null,null,null,{"$f":"IF([1]①現況報告書!D16=\"\",\"\",[1]①現況報告書!D16)","v":""},{"$nulls":27},{"$f":"IF([1]①現況報告書!AF16=\"\",\"\",[1]①現況報告書!AF16)","v":""},{"$nulls":8},{"$f":"IF([1]①現況報告書!AO16=\"\",\"\",[1]①現況報告書!AO16)","v":""},null,null,{"$f":"IF([1]①現況報告書!AR16=\"\",\"\",[1]①現況報告書!AR16)","v":""},{"$nulls":7},{"$f":"IF([1]①現況報告書!AZ16=\"\",\"\",[1]①現況報告書!AZ16)","v":""},{"$nulls":4},{"$f":"IF([1]①現況報告書!BE16=\"\",\"\",[1]①現況報告書!BE16)","v":""}]
[null,null,null,{"$f":"IF([1]①現況報告書!D17=\"\",\"\",[1]①現況報告書!D17)","v":""},{"$nulls":27},{"$f":"IF([1]①現況報告書!AF17=\"\",\"\",[1]①現況報告書!AF17)","v":""},{"$nulls":8},{"$f":"IF([1]①現況報告書!AO17=\"\",\"\",[1]①現況報告書!AO17)","v":""},null,null,{"$f":"IF([1]①現況報告書!AR17=\"\",\"\",[1]①現況報告書!AR17)","v":""},{"$nulls":7},{"$f":"IF([1]①現況報告書!AZ17=\"\",\"\",[1]①現況報告書!AZ17)","v":""},{"$nulls":4},{"$f":"IF([1]①現況報告書!BE17=\"\",\"\",[1]①現況報告書!BE17)","v":""}]
[null,null,"第二種",{"$f":"IF([1]①現況報告書!D18=\"\",\"\",[1]①現況報告書!D18)","v":""},{"$nulls":27},{"$f":"IF([1]①現況報告書!AF18=\"\",\"\",[1]①現況報告書!AF18)","v":""},{"$nulls":8},{"$f":"IF([1]①現況報告書!AO18=\"\",\"\",[1]①現況報告書!AO18)","v":""},null,null,{"$f":"IF([1]①現況報告書!AR18=\"\",\"\",[1]①現況報告書!AR18)","v":""},{"$nulls":7},{"$f":"IF([1]①現況報告書!AZ18=\"\",\"\",[1]①現況報告書!AZ18)","v":""},{"$nulls":4},{"$f":"IF([1]①現況報告書!BE18=\"\",\"\",[1]①現況報告書!BE18)","v":""}]
[null,null,null,{"$f":"IF([1]①現況報告書!D19=\"\",\"\",[1]①現況報告書!D19)","v":""},{"$nulls":27},{"$f":"IF([1]①現況報告書!AF19=\"\",\"\",[1]①現況報告書!AF19)","v":""},{"$nulls":8},{"$f":"IF([1]①現況報告書!AO19=\"\",\"\",[1]①現況報告書!AO19)","v":""},null,null,{"$f":"IF([1]①現況報告書!AR19=\"\",\"\",[1]①現況報告書!AR19)","v":""},{"$nulls":7},{"$f":"IF([1]①現況報告書!AZ19=\"\",\"\",[1]①現況報告書!AZ19)","v":""},{"$nulls":4},{"$f":"IF([1]①現況報告書!BE19=\"\",\"\",[1]①現況報告書!BE19)","v":""}]
[null,null,null,{"$f":"IF([1]①現況報告書!D20=\"\",\"\",[1]①現況報告書!D20)","v":""},{"$nulls":27},{"$f":"IF([1]①現況報告書!AF20=\"\",\"\",[1]①現況報告書!AF20)","v":""},{"$nulls":8},{"$f":"IF([1]①現況報告書!AO20=\"\",\"\",[1]①現況報告書!AO20)","v":""},null,null,{"$f":"IF([1]①現況報告書!AR20=\"\",\"\",[1]①現況報告書!AR20)","v":""},{"$nulls":7},{"$f":"IF([1]①現況報告書!AZ20=\"\",\"\",[1]①現況報告書!AZ20)","v":""},{"$nulls":4},{"$f":"IF([1]①現況報告書!BE20=\"\",\"\",[1]①現況報告書!BE20)","v":""}]
[null,null,null,{"$f":"IF([1]①現況報告書!D21=\"\",\"\",[1]①現況報告書!D21)","v":""},{"$nulls":27},{"$f":"IF([1]①現況報告書!AF21=\"\",\"\",[1]①現況報告書!AF21)","v":""},{"$nulls":8},{"$f":"IF([1]①現況報告書!AO21=\"\",\"\",[1]①現況報告書!AO21)","v":""},null,null,{"$f":"IF([1]①現況報告書!AR21=\"\",\"\",[1]①現況報告書!AR21)","v":""},{"$nulls":7},{"$f":"IF([1]①現況報告書!AZ21=\"\",\"\",[1]①現況報告書!AZ21)","v":""},{"$nulls":4},{"$f":"IF([1]①現況報告書!BE21=\"\",\"\",[1]①現況報告書!BE21)","v":""}]
[null,null,null,{"$f":"IF([1]①現況報告書!D22=\"\",\"\",[1]①現況報告書!D22)","v":""},{"$nulls":27},{"$f":"IF([1]①現況報告書!AF22=\"\",\"\",[1]①現況報告書!AF22)","v":""},{"$nulls":8},{"$f":"IF([1]①現況報告書!AO22=\"\",\"\",[1]①現況報告書!AO22)","v":""},null,null,{"$f":"IF([1]①現況報告書!AR22=\"\",\"\",[1]①現況報告書!AR22)","v":""},{"$nulls":7},{"$f":"IF([1]①現況報告書!AZ22=\"\",\"\",[1]①現況報告書!AZ22)","v":""},{"$nulls":4},{"$f":"IF([1]①現況報告書!BE22=\"\",\"\",[1]①現況報告書!BE22)","v":""}]
[null,null,null,{"$f":"IF([1]①現況報告書!D23=\"\",\"\",[1]①現況報告書!D23)","v":""},{"$nulls":27},{"$f":"IF([1]①現況報告書!AF23=\"\",\"\",[1]①現況報告書!AF23)","v":""},{"$nulls":8},{"$f":"IF([1]①現況報告書!AO23=\"\",\"\",[1]①現況報告書!AO23)","v":""},null,null,{"$f":"IF([1]①現況報告書!AR23=\"\",\"\",[1]①現況報告書!AR23)","v":""},{"$nulls":7},{"$f":"IF([1]①現況報告書!AZ23=\"\",\"\",[1]①現況報告書!AZ23)","v":""},{"$nulls":4},{"$f":"IF([1]①現況報告書!BE23=\"\",\"\",[1]①現況報告書!BE23)","v":""}]
[null,null,null,{"$f":"IF([1]①現況報告書!D24=\"\",\"\",[1]①現況報告書!D24)","v":""},{"$nulls":27},{"$f":"IF([1]①現況報告書!AF24=\"\",\"\",[1]①現況報告書!AF24)","v":""},{"$nulls":8},{"$f":"IF([1]①現況報告書!AO24=\"\",\"\",[1]①現況報告書!AO24)","v":""},null,null,{"$f":"IF([1]①現況報告書!AR24=\"\",\"\",[1]①現況報告書!AR24)","v":""},{"$nulls":7},{"$f":"IF([1]①現況報告書!AZ24=\"\",\"\",[1]①現況報告書!AZ24)","v":""},{"$nulls":4},{"$f":"IF([1]①現況報告書!BE24=\"\",\"\",[1]①現況報告書!BE24)","v":""}]
[null,null,null,{"$f":"IF([1]①現況報告書!D25=\"\",\"\",[1]①現況報告書!D25)","v":""},{"$nulls":27},{"$f":"IF([1]①現況報告書!AF25=\"\",\"\",[1]①現況報告書!AF25)","v":""},{"$nulls":8},{"$f":"IF([1]①現況報告書!AO25=\"\",\"\",[1]①現況報告書!AO25)","v":""},null,null,{"$f":"IF([1]①現況報告書!AR25=\"\",\"\",[1]①現況報告書!AR25)","v":""},{"$nulls":7},{"$f":"IF([1]①現況報告書!AZ25=\"\",\"\",[1]①現況報告書!AZ25)","v":""},{"$nulls":4},{"$f":"IF([1]①現況報告書!BE25=\"\",\"\",[1]①現況報告書!BE25)","v":""}]
[null,null,null,{"$f":"IF([1]①現況報告書!D26=\"\",\"\",[1]①現況報告書!D26)","v":""},{"$nulls":27},{"$f":"IF([1]①現況報告書!AF26=\"\",\"\",[1]①現況報告書!AF26)","v":""},{"$nulls":8},{"$f":"IF([1]①現況報告書!AO26=\"\",\"\",[1]①現況報告書!AO26)","v":""},null,null,{"$f":"IF([1]①現況報告書!AR26=\"\",\"\",[1]①現況報告書!AR26)","v":""},{"$nulls":7},{"$f":"IF([1]①現況報告書!AZ26=\"\",\"\",[1]①現況報告書!AZ26)","v":""},{"$nulls":4},{"$f":"IF([1]①現況報告書!BE26=\"\",\"\",[1]①現況報告書!BE26)","v":""}]
[null,null,null,{"$f":"IF([1]①現況報告書!D27=\"\",\"\",[1]①現況報告書!D27)","v":""},{"$nulls":27},{"$f":"IF([1]①現況報告書!AF27=\"\",\"\",[1]①現況報告書!AF27)","v":""},{"$nulls":8},{"$f":"IF([1]①現況報告書!AO27=\"\",\"\",[1]①現況報告書!AO27)","v":""},null,null,{"$f":"IF([1]①現況報告書!AR27=\"\",\"\",[1]①現況報告書!AR27)","v":""},{"$nulls":7},{"$f":"IF([1]①現況報告書!AZ27=\"\",\"\",[1]①現況報告書!AZ27)","v":""},{"$nulls":4},{"$f":"IF([1]①現況報告書!BE27=\"\",\"\",[1]①現況報告書!BE27)","v":""}]
["社会福祉事業",null,null,"種類",{"$nulls":27},"施設名・事業所名",{"$nulls":11},"所在地\n",{"$nulls":7},"事業開始\n年月日",{"$nulls":4},"定員",null,"実施形態"]
[{"$nulls":40},"公表/非公表",{"$nulls":17},"各分野の事業が同一施設（敷地）で実施",null,null,"全ての事業が同一施設（敷地）で実施"]
[null,"老人福祉","第一種",{"$f":"IF([1]①現況報告書!D30=\"\",\"\",[1]①現況報告書!D30)","v":""},{"$nulls":27},{"$f":"IF([1]①現況報告書!AF30=\"\",\"\",[1]①現況報告書!AF30)","v":""},{"$nulls":8},{"$f":"IF([1]①現況報告書!AO30=\"\",\"\",[1]①現況報告書!AO30)","v":""},null,null,{"$f":"IF([1]①現況報告書!AR30=\"\",\"\",[1]①現況報告書!AR30)","v":""},{"$nulls":7},{"$f":"IF([1]①現況報告書!AZ30=\"\",\"\",[1]①現況報告書!AZ30)","v":""},{"$nulls":4},{"$f":"IF([1]①現況報告書!BE30=\"\",\"\",[1]①現況報告書!BE30)","v":""},null,{"$f":"IF([1]①現況報告書!BG30=\"\",\"\",[1]①現況報告書!BG30)","v":""},null,null,{"$f":"IF([1]①現況報告書!BJ30=\"\",\"\",[1]①現況報告書!BJ30)","v":""}]
[null,null,null,{"$f":"IF([1]①現況報告書!D31=\"\",\"\",[1]①現況報告書!D31)","v":""},{"$nulls":27},{"$f":"IF([1]①現況報告書!AF31=\"\",\"\",[1]①現況報告書!AF31)","v":""},{"$nulls":8},{"$f":"IF([1]①現況報告書!AO31=\"\",\"\",[1]①現況報告書!AO31)","v":""},null,null,{"$f":"IF([1]①現況報告書!AR31=\"\",\"\",[1]①現況報告書!AR31)","v":""},{"$nulls":7},{"$f":"IF([1]①現況報告書!AZ31=\"\",\"\",[1]①現況報告書!AZ31)","v":""},{"$nulls":4},{"$f":"IF([1]①現況報告書!BE31=\"\",\"\",[1]①現況報告書!BE31)","v":""}]
[null,null,null,{"$f":"IF([1]①現況報告書!D32=\"\",\"\",[1]①現況報告書!D32)","v":""},{"$nulls":27},{"$f":"IF([1]①現況報告書!AF32=\"\",\"\",[1]①現況報告書!AF32)","v":""},{"$nulls":8},{"$f":"IF([1]①現況報告書!AO32=\"\",\"\",[1]①現況報告書!AO32)","v":""},null,null,{"$f":"IF([1]①現況報告書!AR32=\"\",\"\",[1]①現況報告書!AR32)","v":""},{"$nulls":7},{"$f":"IF([1]①現況報告書!AZ32=\"\",\"\",[1]①現況報告書!AZ32)","v":""},{"$nulls":4},{"$f":"IF([1]①現況報告書!BE32=\"\",\"\",[1]①現況報告書!BE32)","v":""}]
[null,null,null,{"$f":"IF([1]①現況報告書!D33=\"\",\"\",[1]①現況報告書!D33)","v":""},{"$nulls":27},{"$f":"IF([1]①現況報告書!AF33=\"\",\"\",[1]①現況報告書!AF33)","v":""},{"$nulls":8},{"$f":"IF([1]①現況報告書!AO33=\"\",\"\",[1]①現況報告書!AO33)","v":""},null,null,{"$f":"IF([1]①現況報告書!AR33=\"\",\"\",[1]①現況報告書!AR33)","v":""},{"$nulls":7},{"$f":"IF([1]①現況報告書!AZ33=\"\",\"\",[1]①現況報告書!AZ33)","v":""},{"$nulls":4},{"$f":"IF([1]①現況報告書!BE33=\"\",\"\",[1]①現況報告書!BE33)","v":""}]
[null,null,null,{"$f":"IF([1]①現況報告書!D34=\"\",\"\",[1]①現況報告書!D34)","v":""},{"$nulls":27},{"$f":"IF([1]①現況報告書!AF34=\"\",\"\",[1]①現況報告書!AF34)","v":""},{"$nulls":8},{"$f":"IF([1]①現況報告書!AO34=\"\",\"\",[1]①現況報告書!AO34)","v":""},null,null,{"$f":"IF([1]①現況報告書!AR34=\"\",\"\",[1]①現況報告書!AR34)","v":""},{"$nulls":7},{"$f":"IF([1]①現況報告書!AZ34=\"\",\"\",[1]①現況報告書!AZ34)","v":""},{"$nulls":4},{"$f":"IF([1]①現況報告書!BE34=\"\",\"\",[1]①現況報告書!BE34)","v":""}]
[null,null,"第二種",{"$f":"IF([1]①現況報告書!D35=\"\",\"\",[1]①現況報告書!D35)","v":""},{"$nulls":27},{"$f":"IF([1]①現況報告書!AF35=\"\",\"\",[1]①現況報告書!AF35)","v":""},{"$nulls":8},{"$f":"IF([1]①現況報告書!AO35=\"\",\"\",[1]①現況報告書!AO35)","v":""},null,null,{"$f":"IF([1]①現況報告書!AR35=\"\",\"\",[1]①現況報告書!AR35)","v":""},{"$nulls":7},{"$f":"IF([1]①現況報告書!AZ35=\"\",\"\",[1]①現況報告書!AZ35)","v":""},{"$nulls":4},{"$f":"IF([1]①現況報告書!BE35=\"\",\"\",[1]①現況報告書!BE35)","v":""}]
[null,null,null,{"$f":"IF([1]①現況報告書!D36=\"\",\"\",[1]①現況報告書!D36)","v":""},{"$nulls":27},{"$f":"IF([1]①現況報告書!AF36=\"\",\"\",[1]①現況報告書!AF36)","v":""},{"$nulls":8},{"$f":"IF([1]①現況報告書!AO36=\"\",\"\",[1]①現況報告書!AO36)","v":""},null,null,{"$f":"IF([1]①現況報告書!AR36=\"\",\"\",[1]①現況報告書!AR36)","v":""},{"$nulls":7},{"$f":"IF([1]①現況報告書!AZ36=\"\",\"\",[1]①現況報告書!AZ36)","v":""},{"$nulls":4},{"$f":"IF([1]①現況報告書!BE36=\"\",\"\",[1]①現況報告書!BE36)","v":""}]
[null,null,null,{"$f":"IF([1]①現況報告書!D37=\"\",\"\",[1]①現況報告書!D37)","v":""},{"$nulls":27},{"$f":"IF([1]①現況報告書!AF37=\"\",\"\",[1]①現況報告書!AF37)","v":""},{"$nulls":8},{"$f":"IF([1]①現況報告書!AO37=\"\",\"\",[1]①現況報告書!AO37)","v":""},null,null,{"$f":"IF([1]①現況報告書!AR37=\"\",\"\",[1]①現況報告書!AR37)","v":""},{"$nulls":7},{"$f":"IF([1]①現況報告書!AZ37=\"\",\"\",[1]①現況報告書!AZ37)","v":""},{"$nulls":4},{"$f":"IF([1]①現況報告書!BE37=\"\",\"\",[1]①現況報告書!BE37)","v":""}]
[null,null,null,{"$f":"IF([1]①現況報告書!D38=\"\",\"\",[1]①現況報告書!D38)","v":""},{"$nulls":27},{"$f":"IF([1]①現況報告書!AF38=\"\",\"\",[1]①現況報告書!AF38)","v":""},{"$nulls":8},{"$f":"IF([1]①現況報告書!AO38=\"\",\"\",[1]①現況報告書!AO38)","v":""},null,null,{"$f":"IF([1]①現況報告書!AR38=\"\",\"\",[1]①現況報告書!AR38)","v":""},{"$nulls":7},{"$f":"IF([1]①現況報告書!AZ38=\"\",\"\",[1]①現況報告書!AZ38)","v":""},{"$nulls":4},{"$f":"IF([1]①現況報告書!BE38=\"\",\"\",[1]①現況報告書!BE38)","v":""}]
[null,null,null,{"$f":"IF([1]①現況報告書!D39=\"\",\"\",[1]①現況報告書!D39)","v":""},{"$nulls":27},{"$f":"IF([1]①現況報告書!AF39=\"\",\"\",[1]①現況報告書!AF39)","v":""},{"$nulls":8},{"$f":"IF([1]①現況報告書!AO39=\"\",\"\",[1]①現況報告書!AO39)","v":""},null,null,{"$f":"IF([1]①現況報告書!AR39=\"\",\"\",[1]①現況報告書!AR39)","v":""},{"$nulls":7},{"$f":"IF([1]①現況報告書!AZ39=\"\",\"\",[1]①現況報告書!AZ39)","v":""},{"$nulls":4},{"$f":"IF([1]①現況報告書!BE39=\"\",\"\",[1]①現況報告書!BE39)","v":""}]
[null,null,null,{"$f":"IF([1]①現況報告書!D40=\"\",\"\",[1]①現況報告書!D40)","v":""},{"$nulls":27},{"$f":"IF([1]①現況報告書!AF40=\"\",\"\",[1]①現況報告書!AF40)","v":""},{"$nulls":8},{"$f":"IF([1]①現況報告書!AO40=\"\",\"\",[1]①現況報告書!AO40)","v":""},null,null,{"$f":"IF([1]①現況報告書!AR40=\"\",\"\",[1]①現況報告書!AR40)","v":""},{"$nulls":7},{"$f":"IF([1]①現況報告書!AZ40=\"\",\"\",[1]①現況報告書!AZ40)","v":""},{"$nulls":4},{"$f":"IF([1]①現況報告書!BE40=\"\",\"\",[1]①現況報告書!BE40)","v":""}]
[null,null,null,{"$f":"IF([1]①現況報告書!D41=\"\",\"\",[1]①現況報告書!D41)","v":""},{"$nulls":27},{"$f":"IF([1]①現況報告書!AF41=\"\",\"\",[1]①現況報告書!AF41)","v":""},{"$nulls":8},{"$f":"IF([1]①現況報告書!AO41=\"\",\"\",[1]①現況報告書!AO41)","v":""},null,null,{"$f":"IF([1]①現況報告書!AR41=\"\",\"\",[1]①現況報告書!AR41)","v":""},{"$nulls":7},{"$f":"IF([1]①現況報告書!AZ41=\"\",\"\",[1]①現況報告書!AZ41)","v":""},{"$nulls":4},{"$f":"IF([1]①現況報告書!BE41=\"\",\"\",[1]①現況報告書!BE41)","v":""}]
[null,null,null,{"$f":"IF([1]①現況報告書!D42=\"\",\"\",[1]①現況報告書!D42)","v":""},{"$nulls":27},{"$f":"IF([1]①現況報告書!AF42=\"\",\"\",[1]①現況報告書!AF42)","v":""},{"$nulls":8},{"$f":"IF([1]①現況報告書!AO42=\"\",\"\",[1]①現況報告書!AO42)","v":""},null,null,{"$f":"IF([1]①現況報告書!AR42=\"\",\"\",[1]①現況報告書!AR42)","v":""},{"$nulls":7},{"$f":"IF([1]①現況報告書!AZ42=\"\",\"\",[1]①現況報告書!AZ42)","v":""},{"$nulls":4},{"$f":"IF([1]①現況報告書!BE42=\"\",\"\",[1]①現況報告書!BE42)","v":""}]
[null,null,null,{"$f":"IF([1]①現況報告書!D43=\"\",\"\",[1]①現況報告書!D43)","v":""},{"$nulls":27},{"$f":"IF([1]①現況報告書!AF43=\"\",\"\",[1]①現況報告書!AF43)","v":""},{"$nulls":8},{"$f":"IF([1]①現況報告書!AO43=\"\",\"\",[1]①現況報告書!AO43)","v":""},null,null,{"$f":"IF([1]①現況報告書!AR43=\"\",\"\",[1]①現況報告書!AR43)","v":""},{"$nulls":7},{"$f":"IF([1]①現況報告書!AZ43=\"\",\"\",[1]①現況報告書!AZ43)","v":""},{"$nulls":4},{"$f":"IF([1]①現況報告書!BE43=\"\",\"\",[1]①現況報告書!BE43)","v":""}]
[null,null,null,{"$f":"IF([1]①現況報告書!D44=\"\",\"\",[1]①現況報告書!D44)","v":""},{"$nulls":27},{"$f":"IF([1]①現況報告書!AF44=\"\",\"\",[1]①現況報告書!AF44)","v":""},{"$nulls":8},{"$f":"IF([1]①現況報告書!AO44=\"\",\"\",[1]①現況報告書!AO44)","v":""},null,null,{"$f":"IF([1]①現況報告書!AR44=\"\",\"\",[1]①現況報告書!AR44)","v":""},{"$nulls":7},{"$f":"IF([1]①現況報告書!AZ44=\"\",\"\",[1]①現況報告書!AZ44)","v":""},{"$nulls":4},{"$f":"IF([1]①現況報告書!BE44=\"\",\"\",[1]①現況報告書!BE44)","v":""}]
[null,"障害者福祉","第一種",{"$f":"IF([1]①現況報告書!D45=\"\",\"\",[1]①現況報告書!D45)","v":""},{"$nulls":27},{"$f":"IF([1]①現況報告書!AF45=\"\",\"\",[1]①現況報告書!AF45)","v":""},{"$nulls":8},{"$f":"IF([1]①現況報告書!AO45=\"\",\"\",[1]①現況報告書!AO45)","v":""},null,null,{"$f":"IF([1]①現況報告書!AR45=\"\",\"\",[1]①現況報告書!AR45)","v":""},{"$nulls":7},{"$f":"IF([1]①現況報告書!AZ45=\"\",\"\",[1]①現況報告書!AZ45)","v":""},{"$nulls":4},{"$f":"IF([1]①現況報告書!BE45=\"\",\"\",[1]①現況報告書!BE45)","v":""},null,{"$f":"IF([1]①現況報告書!BG45=\"\",\"\",[1]①現況報告書!BG45)","v":"○"},null,null,{"$f":"IF([1]①現況報告書!BJ45=\"\",\"\",[1]①現況報告書!BJ45)","v":""}]
[null,null,null,{"$f":"IF([1]①現況報告書!D46=\"\",\"\",[1]①現況報告書!D46)","v":""},{"$nulls":27},{"$f":"IF([1]①現況報告書!AF46=\"\",\"\",[1]①現況報告書!AF46)","v":""},{"$nulls":8},{"$f":"IF([1]①現況報告書!AO46=\"\",\"\",[1]①現況報告書!AO46)","v":""},null,null,{"$f":"IF([1]①現況報告書!AR46=\"\",\"\",[1]①現況報告書!AR46)","v":""},{"$nulls":7},{"$f":"IF([1]①現況報告書!AZ46=\"\",\"\",[1]①現況報告書!AZ46)","v":""},{"$nulls":4},{"$f":"IF([1]①現況報告書!BE46=\"\",\"\",[1]①現況報告書!BE46)","v":""}]
[null,null,null,{"$f":"IF([1]①現況報告書!D47=\"\",\"\",[1]①現況報告書!D47)","v":""},{"$nulls":27},{"$f":"IF([1]①現況報告書!AF47=\"\",\"\",[1]①現況報告書!AF47)","v":""},{"$nulls":8},{"$f":"IF([1]①現況報告書!AO47=\"\",\"\",[1]①現況報告書!AO47)","v":""},null,null,{"$f":"IF([1]①現況報告書!AR47=\"\",\"\",[1]①現況報告書!AR47)","v":""},{"$nulls":7},{"$f":"IF([1]①現況報告書!AZ47=\"\",\"\",[1]①現況報告書!AZ47)","v":""},{"$nulls":4},{"$f":"IF([1]①現況報告書!BE47=\"\",\"\",[1]①現況報告書!BE47)","v":""}]
[null,null,"第二種",{"$f":"IF([1]①現況報告書!D48=\"\",\"\",[1]①現況報告書!D48)","v":"障害福祉サービス事業"},{"$nulls":27},{"$f":"IF([1]①現況報告書!AF48=\"\",\"\",[1]①現況報告書!AF48)","v":"がまのほ(生活介護）"},{"$nulls":8},{"$f":"IF([1]①現況報告書!AO48=\"\",\"\",[1]①現況報告書!AO48)","v":"公表"},null,null,{"$f":"IF([1]①現況報告書!AR48=\"\",\"\",[1]①現況報告書!AR48)","v":"福山市新市町相方1172－1"},{"$nulls":7},{"$f":"IF([1]①現況報告書!AZ48=\"\",\"\",[1]①現況報告書!AZ48)","v":"2007-04-01"},{"$nulls":4},{"$f":"IF([1]①現況報告書!BE48=\"\",\"\",[1]①現況報告書!BE48)","v":20}]
[null,null,null,{"$f":"IF([1]①現況報告書!D49=\"\",\"\",[1]①現況報告書!D49)","v":"障害福祉サービス事業"},{"$nulls":27},{"$f":"IF([1]①現況報告書!AF49=\"\",\"\",[1]①現況報告書!AF49)","v":"がまのほ(日中一時支援事業）"},{"$nulls":8},{"$f":"IF([1]①現況報告書!AO49=\"\",\"\",[1]①現況報告書!AO49)","v":"公表"},null,null,{"$f":"IF([1]①現況報告書!AR49=\"\",\"\",[1]①現況報告書!AR49)","v":"福山市新市町相方1172－1"},{"$nulls":7},{"$f":"IF([1]①現況報告書!AZ49=\"\",\"\",[1]①現況報告書!AZ49)","v":"2007-04-01"},{"$nulls":4},{"$f":"IF([1]①現況報告書!BE49=\"\",\"\",[1]①現況報告書!BE49)","v":5}]
[null,null,null,{"$f":"IF([1]①現況報告書!D50=\"\",\"\",[1]①現況報告書!D50)","v":"障害福祉サービス事業"},{"$nulls":27},{"$f":"IF([1]①現況報告書!AF50=\"\",\"\",[1]①現況報告書!AF50)","v":"障害者自立支援センターしんいち（居宅介護）"},{"$nulls":8},{"$f":"IF([1]①現況報告書!AO50=\"\",\"\",[1]①現況報告書!AO50)","v":"公表"},null,null,{"$f":"IF([1]①現況報告書!AR50=\"\",\"\",[1]①現況報告書!AR50)","v":"福山市新市町相方1172－1"},{"$nulls":7},{"$f":"IF([1]①現況報告書!AZ50=\"\",\"\",[1]①現況報告書!AZ50)","v":"2003-04-01"},{"$nulls":4},{"$f":"IF([1]①現況報告書!BE50=\"\",\"\",[1]①現況報告書!BE50)","v":""}]
[null,null,null,{"$f":"IF([1]①現況報告書!D51=\"\",\"\",[1]①現況報告書!D51)","v":"障害福祉サービス事業"},{"$nulls":27},{"$f":"IF([1]①現況報告書!AF51=\"\",\"\",[1]①現況報告書!AF51)","v":"障害者自立支援センターしんいち（行動援護）"},{"$nulls":8},{"$f":"IF([1]①現況報告書!AO51=\"\",\"\",[1]①現況報告書!AO51)","v":"公表"},null,null,{"$f":"IF([1]①現況報告書!AR51=\"\",\"\",[1]①現況報告書!AR51)","v":"福山市新市町相方1172－1"},{"$nulls":7},{"$f":"IF([1]①現況報告書!AZ51=\"\",\"\",[1]①現況報告書!AZ51)","v":"2003-04-01"},{"$nulls":4},{"$f":"IF([1]①現況報告書!BE51=\"\",\"\",[1]①現況報告書!BE51)","v":""}]
[null,null,null,{"$f":"IF([1]①現況報告書!D52=\"\",\"\",[1]①現況報告書!D52)","v":"障害福祉サービス事業"},{"$nulls":27},{"$f":"IF([1]①現況報告書!AF52=\"\",\"\",[1]①現況報告書!AF52)","v":"障害者自立支援センターしんいち（重度訪問）"},{"$nulls":8},{"$f":"IF([1]①現況報告書!AO52=\"\",\"\",[1]①現況報告書!AO52)","v":"公表"},null,null,{"$f":"IF([1]①現況報告書!AR52=\"\",\"\",[1]①現況報告書!AR52)","v":"福山市新市町相方1172－1"},{"$nulls":7},{"$f":"IF([1]①現況報告書!AZ52=\"\",\"\",[1]①現況報告書!AZ52)","v":"2003-04-01"},{"$nulls":4},{"$f":"IF([1]①現況報告書!BE52=\"\",\"\",[1]①現況報告書!BE52)","v":""}]
[null,null,null,{"$f":"IF([1]①現況報告書!D53=\"\",\"\",[1]①現況報告書!D53)","v":"障害福祉サービス事業"},{"$nulls":27},{"$f":"IF([1]①現況報告書!AF53=\"\",\"\",[1]①現況報告書!AF53)","v":"障害者自立支援センターしんいち（移動支援）"},{"$nulls":8},{"$f":"IF([1]①現況報告書!AO53=\"\",\"\",[1]①現況報告書!AO53)","v":"公表"},null,null,{"$f":"IF([1]①現況報告書!AR53=\"\",\"\",[1]①現況報告書!AR53)","v":"福山市新市町相方1172－1"},{"$nulls":7},{"$f":"IF([1]①現況報告書!AZ53=\"\",\"\",[1]①現況報告書!AZ53)","v":"2003-04-01"},{"$nulls":4},{"$f":"IF([1]①現況報告書!BE53=\"\",\"\",[1]①現況報告書!BE53)","v":""}]
[null,null,null,{"$f":"IF([1]①現況報告書!D54=\"\",\"\",[1]①現況報告書!D54)","v":"特定相談支援事業"},{"$nulls":27},{"$f":"IF([1]①現況報告書!AF54=\"\",\"\",[1]①現況報告書!AF54)","v":"障害者自立支援センターしんいち"},{"$nulls":8},{"$f":"IF([1]①現況報告書!AO54=\"\",\"\",[1]①現況報告書!AO54)","v":"公表"},null,null,{"$f":"IF([1]①現況報告書!AR54=\"\",\"\",[1]①現況報告書!AR54)","v":"福山市新市町相方1172－1"},{"$nulls":7},{"$f":"IF([1]①現況報告書!AZ54=\"\",\"\",[1]①現況報告書!AZ54)","v":"2015-04-01"},{"$nulls":4},{"$f":"IF([1]①現況報告書!BE54=\"\",\"\",[1]①現況報告書!BE54)","v":""}]
[null,null,null,{"$f":"IF([1]①現況報告書!D55=\"\",\"\",[1]①現況報告書!D55)","v":"一般相談支援事業"},{"$nulls":27},{"$f":"IF([1]①現況報告書!AF55=\"\",\"\",[1]①現況報告書!AF55)","v":"障害者自立支援センターしんいち"},{"$nulls":8},{"$f":"IF([1]①現況報告書!AO55=\"\",\"\",[1]①現況報告書!AO55)","v":"公表"},null,null,{"$f":"IF([1]①現況報告書!AR55=\"\",\"\",[1]①現況報告書!AR55)","v":"福山市新市町相方1172－1"},{"$nulls":7},{"$f":"IF([1]①現況報告書!AZ55=\"\",\"\",[1]①現況報告書!AZ55)","v":"2015-04-01"},{"$nulls":4},{"$f":"IF([1]①現況報告書!BE55=\"\",\"\",[1]①現況報告書!BE55)","v":""}]
[null,null,null,{"$f":"IF([1]①現況報告書!D56=\"\",\"\",[1]①現況報告書!D56)","v":"障害福祉サービス事業"},{"$nulls":27},{"$f":"IF([1]①現況報告書!AF56=\"\",\"\",[1]①現況報告書!AF56)","v":"らんらん作業所(就労継続支援Ｂ）"},{"$nulls":8},{"$f":"IF([1]①現況報告書!AO56=\"\",\"\",[1]①現況報告書!AO56)","v":"公表"},null,null,{"$f":"IF([1]①現況報告書!AR56=\"\",\"\",[1]①現況報告書!AR56)","v":"福山市新市町戸手1000－1"},{"$nulls":7},{"$f":"IF([1]①現況報告書!AZ56=\"\",\"\",[1]①現況報告書!AZ56)","v":"2012-04-01"},{"$nulls":4},{"$f":"IF([1]①現況報告書!BE56=\"\",\"\",[1]①現況報告書!BE56)","v":16}]
[null,null,null,{"$f":"IF([1]①現況報告書!D57=\"\",\"\",[1]①現況報告書!D57)","v":"障害福祉サービス事業"},{"$nulls":27},{"$f":"IF([1]①現況報告書!AF57=\"\",\"\",[1]①現況報告書!AF57)","v":"らんらん作業所(就労移行支援）"},{"$nulls":8},{"$f":"IF([1]①現況報告書!AO57=\"\",\"\",[1]①現況報告書!AO57)","v":"公表"},null,null,{"$f":"IF([1]①現況報告書!AR57=\"\",\"\",[1]①現況報告書!AR57)","v":"福山市新市町戸手1000－1"},{"$nulls":7},{"$f":"IF([1]①現況報告書!AZ57=\"\",\"\",[1]①現況報告書!AZ57)","v":"2015-04-01"},{"$nulls":4},4]
[null,"その他","第一種",{"$f":"IF([1]①現況報告書!D58=\"\",\"\",[1]①現況報告書!D58)","v":""},{"$nulls":27},{"$f":"IF([1]①現況報告書!AF58=\"\",\"\",[1]①現況報告書!AF58)","v":""},{"$nulls":8},{"$f":"IF([1]①現況報告書!AO58=\"\",\"\",[1]①現況報告書!AO58)","v":""},null,null,{"$f":"IF([1]①現況報告書!AR58=\"\",\"\",[1]①現況報告書!AR58)","v":""},{"$nulls":7},{"$f":"IF([1]①現況報告書!AZ58=\"\",\"\",[1]①現況報告書!AZ58)","v":""},{"$nulls":4},{"$f":"IF([1]①現況報告書!BE58=\"\",\"\",[1]①現況報告書!BE58)","v":""}]
[null,null,null,{"$f":"IF([1]①現況報告書!D59=\"\",\"\",[1]①現況報告書!D59)","v":""},{"$nulls":27},{"$f":"IF([1]①現況報告書!AF59=\"\",\"\",[1]①現況報告書!AF59)","v":""},{"$nulls":8},{"$f":"IF([1]①現況報告書!AO59=\"\",\"\",[1]①現況報告書!AO59)","v":""},null,null,{"$f":"IF([1]①現況報告書!AR59=\"\",\"\",[1]①現況報告書!AR59)","v":""},{"$nulls":7},{"$f":"IF([1]①現況報告書!AZ59=\"\",\"\",[1]①現況報告書!AZ59)","v":""},{"$nulls":4},{"$f":"IF([1]①現況報告書!BE59=\"\",\"\",[1]①現況報告書!BE59)","v":""}]
[null,null,null,{"$f":"IF([1]①現況報告書!D60=\"\",\"\",[1]①現況報告書!D60)","v":""},{"$nulls":27},{"$f":"IF([1]①現況報告書!AF60=\"\",\"\",[1]①現況報告書!AF60)","v":""},{"$nulls":8},{"$f":"IF([1]①現況報告書!AO60=\"\",\"\",[1]①現況報告書!AO60)","v":""},null,null,{"$f":"IF([1]①現況報告書!AR60=\"\",\"\",[1]①現況報告書!AR60)","v":""},{"$nulls":7},{"$f":"IF([1]①現況報告書!AZ60=\"\",\"\",[1]①現況報告書!AZ60)","v":""},{"$nulls":4},{"$f":"IF([1]①現況報告書!BE60=\"\",\"\",[1]①現況報告書!BE60)","v":""}]
[null,null,"第二種",{"$f":"IF([1]①現況報告書!D61=\"\",\"\",[1]①現況報告書!D61)","v":""},{"$nulls":27},{"$f":"IF([1]①現況報告書!AF61=\"\",\"\",[1]①現況報告書!AF61)","v":""},{"$nulls":8},{"$f":"IF([1]①現況報告書!AO61=\"\",\"\",[1]①現況報告書!AO61)","v":""},null,null,{"$f":"IF([1]①現況報告書!AR61=\"\",\"\",[1]①現況報告書!AR61)","v":""},{"$nulls":7},{"$f":"IF([1]①現況報告書!AZ61=\"\",\"\",[1]①現況報告書!AZ61)","v":""},{"$nulls":4},{"$f":"IF([1]①現況報告書!BE61=\"\",\"\",[1]①現況報告書!BE61)","v":""}]
[null,null,null,{"$f":"IF([1]①現況報告書!D62=\"\",\"\",[1]①現況報告書!D62)","v":""},{"$nulls":27},{"$f":"IF([1]①現況報告書!AF62=\"\",\"\",[1]①現況報告書!AF62)","v":""},{"$nulls":8},{"$f":"IF([1]①現況報告書!AO62=\"\",\"\",[1]①現況報告書!AO62)","v":""},null,null,{"$f":"IF([1]①現況報告書!AR62=\"\",\"\",[1]①現況報告書!AR62)","v":""},{"$nulls":7},{"$f":"IF([1]①現況報告書!AZ62=\"\",\"\",[1]①現況報告書!AZ62)","v":""},{"$nulls":4},{"$f":"IF([1]①現況報告書!BE62=\"\",\"\",[1]①現況報告書!BE62)","v":""}]
[null,null,null,{"$f":"IF([1]①現況報告書!D63=\"\",\"\",[1]①現況報告書!D63)","v":""},{"$nulls":27},{"$f":"IF([1]①現況報告書!AF63=\"\",\"\",[1]①現況報告書!AF63)","v":""},{"$nulls":8},{"$f":"IF([1]①現況報告書!AO63=\"\",\"\",[1]①現況報告書!AO63)","v":""},null,null,{"$f":"IF([1]①現況報告書!AR63=\"\",\"\",[1]①現況報告書!AR63)","v":""},{"$nulls":7},{"$f":"IF([1]①現況報告書!AZ63=\"\",\"\",[1]①現況報告書!AZ63)","v":""},{"$nulls":4},{"$f":"IF([1]①現況報告書!BE63=\"\",\"\",[1]①現況報告書!BE63)","v":""}]
["公益事業",null,null,"種類（番号を記載）",{"$nulls":5},"施設名・事業所名",{"$nulls":15},"所在地",{"$nulls":14},"事業開始年月日",{"$nulls":10},"事業規模（定員）"]
[null,null,null,{"$f":"IF([1]①現況報告書!D65=\"\",\"\",[1]①現況報告書!D65)","v":""},{"$nulls":5},{"$f":"IF([1]①現況報告書!J65=\"\",\"\",[1]①現況報告書!J65)","v":""},{"$nulls":15},{"$f":"IF([1]①現況報告書!Z65=\"\",\"\",[1]①現況報告書!Z65)","v":""},{"$nulls":14},{"$f":"IF([1]①現況報告書!AO65=\"\",\"\",[1]①現況報告書!AO65)","v":""},{"$nulls":10},{"$f":"IF([1]①現況報告書!AZ65=\"\",\"\",[1]①現況報告書!AZ65)","v":""}]
[null,null,null,{"$f":"IF([1]①現況報告書!D66=\"\",\"\",[1]①現況報告書!D66)","v":""},{"$nulls":5},{"$f":"IF([1]①現況報告書!J66=\"\",\"\",[1]①現況報告書!J66)","v":""},{"$nulls":15},{"$f":"IF([1]①現況報告書!Z66=\"\",\"\",[1]①現況報告書!Z66)","v":""},{"$nulls":14},{"$f":"IF([1]①現況報告書!AO66=\"\",\"\",[1]①現況報告書!AO66)","v":""},{"$nulls":10},{"$f":"IF([1]①現況報告書!AZ66=\"\",\"\",[1]①現況報告書!AZ66)","v":""}]
[null,null,null,{"$f":"IF([1]①現況報告書!D67=\"\",\"\",[1]①現況報告書!D67)","v":""},{"$nulls":5},{"$f":"IF([1]①現況報告書!J67=\"\",\"\",[1]①現況報告書!J67)","v":""},{"$nulls":15},{"$f":"IF([1]①現況報告書!Z67=\"\",\"\",[1]①現況報告書!Z67)","v":""},{"$nulls":14},{"$f":"IF([1]①現況報告書!AO67=\"\",\"\",[1]①現況報告書!AO67)","v":""},{"$nulls":10},{"$f":"IF([1]①現況報告書!AZ67=\"\",\"\",[1]①現況報告書!AZ67)","v":""}]
[null,null,null,{"$f":"IF([1]①現況報告書!D68=\"\",\"\",[1]①現況報告書!D68)","v":""},{"$nulls":5},{"$f":"IF([1]①現況報告書!J68=\"\",\"\",[1]①現況報告書!J68)","v":""},{"$nulls":15},{"$f":"IF([1]①現況報告書!Z68=\"\",\"\",[1]①現況報告書!Z68)","v":""},{"$nulls":14},{"$f":"IF([1]①現況報告書!AO68=\"\",\"\",[1]①現況報告書!AO68)","v":""},{"$nulls":10},{"$f":"IF([1]①現況報告書!AZ68=\"\",\"\",[1]①現況報告書!AZ68)","v":""}]
[null,null,null,"１　必要な者に対し、相談、情報提供・助言、行政や福祉・保健・医療サービス事業者等との連絡調整を行う等の事業"]
[null,null,null,"２　必要な者に対し、入浴、排せつ、食事、外出時の移動、コミュニケーション、スポーツ・文化的活動、就労、住環境の調整等を支援する事業"]
[null,null,null,"３　入浴等の支援が必要な者、独力では住居の確保が困難な者等に対し、住居を提供又は確保する事業"]
[null,null,null,"４　日常生活を営むのに支障がある状態の軽減又は悪化の防止に関する事業"]
[null,null,null,"５　入所施設からの退院・退所を支援する事業"]
[null,null,null,"６　子育て支援に関する事業"]
[null,null,null,"７　福祉用具その他の用具又は機器及び住環境に関する情報の収集・整理・提供に関する事業"]
[null,null,null,"８　ボランティアの育成に関する事業"]
[null,null,null,"９　社会福祉の増進に資する人材の育成・確保に関する事業（社会福祉士・介護福祉士・精神保健福祉士・保育士・コミュニケーション支援者等の養成事業等）"]
[null,null,null,"１０　社会福祉に関する調査研究等"]
[null,null,null,"１１　事業規模要件を満たさないために社会福祉事業に含まれない事業"]
[null,null,null,"１２　介護保険法の居宅サービス事業、地域密着型サービス事業、介護予防サービス事業、地域密着型介護予防サービス事業、居宅介護支援事業、介護予防支援事業、介護老人保健施設、"]
[null,null,null,"　　地域支援事業を市町村から受託する事業"]
[null,null,null,"１３　有料老人ホーム"]
[null,null,null,"１４　社会福祉協議会等において、社会福祉協議会活動等に参加する者の福利厚生を図ることを目的として、宿泊所、保養所、食堂等を経営する事業"]
[null,null,null,"１５　公益的事業を行う団体に事務所等として無償又は実費に近い対価で使用させるために会館等を経営する事業"]
[null,null,null,"１６　その他",null,null,null,"（",{"$f":"IF([1]①現況報告書!I85=\"\",\"\",[1]①現況報告書!I85)","v":""},{"$nulls":54},"）"]
[]
["収益事業",null,null,"種類（番号を記載）",{"$nulls":5},"施設名・事業所名",{"$nulls":15},"所在地",{"$nulls":14},"事業開始年月日",{"$nulls":10},"事業規模（定員）"]
[null,null,null,{"$f":"IF([1]①現況報告書!D88=\"\",\"\",[1]①現況報告書!D88)","v":""},{"$nulls":5},{"$f":"IF([1]①現況報告書!J88=\"\",\"\",[1]①現況報告書!J88)","v":""},{"$nulls":15},{"$f":"IF([1]①現況報告書!Z88=\"\",\"\",[1]①現況報告書!Z88)","v":""},{"$nulls":14},{"$f":"IF([1]①現況報告書!AO88=\"\",\"\",[1]①現況報告書!AO88)","v":""},{"$nulls":10},{"$f":"IF([1]①現況報告書!AZ88=\"\",\"\",[1]①現況報告書!AZ88)","v":""}]
[null,null,null,{"$f":"IF([1]①現況報告書!D89=\"\",\"\",[1]①現況報告書!D89)","v":""},{"$nulls":5},{"$f":"IF([1]①現況報告書!J89=\"\",\"\",[1]①現況報告書!J89)","v":""},{"$nulls":15},{"$f":"IF([1]①現況報告書!Z89=\"\",\"\",[1]①現況報告書!Z89)","v":""},{"$nulls":14},{"$f":"IF([1]①現況報告書!AO89=\"\",\"\",[1]①現況報告書!AO89)","v":""},{"$nulls":10},{"$f":"IF([1]①現況報告書!AZ89=\"\",\"\",[1]①現況報告書!AZ89)","v":""}]
[null,null,null,"１　法人の所有する不動産を活用して行う貸ビル"]
[null,null,null,"２　駐車場の経営"]
[null,null,null,"３　公共的、公共的施設内の売店の経営"]
[null,null,null,"４　その他",null,null,null,"（",{"$f":"IF([1]①現況報告書!I93=\"\",\"\",[1]①現況報告書!I93)","v":""},{"$nulls":54},"）"]
[]
["その他の事業",null,null,"種類（番号を記載）",{"$nulls":5},"施設名・事業所名",{"$nulls":15},"所在地",{"$nulls":14},"事業開始年月日",{"$nulls":10},"事業規模（定員）"]
[null,null,null,{"$f":"IF([1]①現況報告書!D96=\"\",\"\",[1]①現況報告書!D96)","v":""},{"$nulls":5},{"$f":"IF([1]①現況報告書!J96=\"\",\"\",[1]①現況報告書!J96)","v":""},{"$nulls":15},{"$f":"IF([1]①現況報告書!Z96=\"\",\"\",[1]①現況報告書!Z96)","v":""},{"$nulls":14},{"$f":"IF([1]①現況報告書!AO96=\"\",\"\",[1]①現況報告書!AO96)","v":""},{"$nulls":10},{"$f":"IF([1]①現況報告書!AZ96=\"\",\"\",[1]①現況報告書!AZ96)","v":""}]
[null,null,null,{"$f":"IF([1]①現況報告書!D97=\"\",\"\",[1]①現況報告書!D97)","v":""},{"$nulls":5},{"$f":"IF([1]①現況報告書!J97=\"\",\"\",[1]①現況報告書!J97)","v":""},{"$nulls":15},{"$f":"IF([1]①現況報告書!Z97=\"\",\"\",[1]①現況報告書!Z97)","v":""},{"$nulls":14},{"$f":"IF([1]①現況報告書!AO97=\"\",\"\",[1]①現況報告書!AO97)","v":""},{"$nulls":10},{"$f":"IF([1]①現況報告書!AZ97=\"\",\"\",[1]①現況報告書!AZ97)","v":""}]
[null,null,null,"１　介護保険、障害福祉サービス等における低所得者の利用者負担減免"]
[null,null,null,"２　地域の単身高齢者等を対象とした見守り・配食サービス等の実施"]
[null,null,null,"３　地域の単身高齢者等を対象とした各種相談事業の実施"]
[null,null,null,"４　災害時における各種支援活動の実施"]
[null,null,null,"５　貧困・生活困窮者等を対象とした住宅の斡旋、食事提供等の生活支援の実施"]
[null,null,null,"６　他法人との連携による人材育成事業"]
[null,null,null,"７　その他",null,null,null,"（",{"$f":"IF([1]①現況報告書!I104=\"\",\"\",[1]①現況報告書!I104)","v":""},{"$nulls":54},"）"]
["Ⅲ 組織"]
["理事",null,null,"定員",null,null,"現員"]
[null,null,null,{"$f":"IF([1]①現況報告書!D107=\"\",\"\",[1]①現況報告書!D107)","v":8},null,null,{"$f":"IF([1]①現況報告書!G107=\"\",\"\",[1]①現況報告書!G107)","v":8}]
[null,null,null,"役職",null,null,null,"氏名",{"$nulls":4},"職業",{"$nulls":4},"任期",{"$nulls":8},"親族等特殊関係者の有無",{"$nulls":8},"資格",{"$nulls":11},"施設整備又は運営と密接に関連する業務を行う者",null,null,"理事報酬\n（職員と兼務の場合は支給方法）",{"$nulls":11},"理事会への出席回数"]
[{"$nulls":26},"親族",null,null,"他の社会福祉法人の役員",null,null,"その他",null,null,"社会福祉事業の学識経験者",null,null,"地域の福祉関係者",null,null,"施設長",null,null,"その他",{"$nulls":5},"理事報酬・職員給与ともに支給",null,null,"理事報酬のみ支給",null,null,"職員給与のみ支給",null,null,"支給なし"]
[null,null,null,{"$f":"IF([1]①現況報告書!D110=\"\",\"\",[1]①現況報告書!D110)","v":"理事"},null,null,null,{"$f":"IF([1]①現況報告書!H110=\"\",\"\",[1]①現況報告書!H110)","v":"横山　美智子"},{"$nulls":9},{"$f":"IF([1]①現況報告書!R110=\"\",\"\",[1]①現況報告書!R110)","v":"2013-09-28"},null,null,null,"～",{"$f":"IF([1]①現況報告書!W110=\"\",\"\",[1]①現況報告書!W110)","v":"2015-09-27"}]
[null,null,null,{"$f":"IF([1]①現況報告書!D111=\"\",\"\",[1]①現況報告書!D111)","v":"理事"},null,null,null,{"$f":"IF([1]①現況報告書!H111=\"\",\"\",[1]①現況報告書!H111)","v":"山本　マスコ"},{"$nulls":9},{"$f":"IF([1]①現況報告書!R111=\"\",\"\",[1]①現況報告書!R111)","v":"2013-09-28"},null,null,null,"～",{"$f":"IF([1]①現況報告書!W111=\"\",\"\",[1]①現況報告書!W111)","v":"2015-09-27"}]
[null,null,null,{"$f":"IF([1]①現況報告書!D112=\"\",\"\",[1]①現況報告書!D112)","v":"理事"},null,null,null,{"$f":"IF([1]①現況報告書!H112=\"\",\"\",[1]①現況報告書!H112)","v":"松葉　志津恵"},{"$nulls":9},{"$f":"IF([1]①現況報告書!R112=\"\",\"\",[1]①現況報告書!R112)","v":"2013-09-28"},null,null,null,"～",{"$f":"IF([1]①現況報告書!W112=\"\",\"\",[1]①現況報告書!W112)","v":"2015-09-27"}]
[null,null,null,{"$f":"IF([1]①現況報告書!D113=\"\",\"\",[1]①現況報告書!D113)","v":"理事"},null,null,null,{"$f":"IF([1]①現況報告書!H113=\"\",\"\",[1]①現況報告書!H113)","v":"新田　稔"},{"$nulls":9},{"$f":"IF([1]①現況報告書!R113=\"\",\"\",[1]①現況報告書!R113)","v":"2013-09-28"},null,null,null,"～",{"$f":"IF([1]①現況報告書!W113=\"\",\"\",[1]①現況報告書!W113)","v":"2015-09-27"}]
[null,null,null,{"$f":"IF([1]①現況報告書!D114=\"\",\"\",[1]①現況報告書!D114)","v":"理事"},null,null,null,{"$f":"IF([1]①現況報告書!H114=\"\",\"\",[1]①現況報告書!H114)","v":"藤原　聡"},{"$nulls":9},{"$f":"IF([1]①現況報告書!R114=\"\",\"\",[1]①現況報告書!R114)","v":"2013-09-28"},null,null,null,"～",{"$f":"IF([1]①現況報告書!W114=\"\",\"\",[1]①現況報告書!W114)","v":"2015-09-27"}]
[null,null,null,{"$f":"IF([1]①現況報告書!D115=\"\",\"\",[1]①現況報告書!D115)","v":"理事"},null,null,null,{"$f":"IF([1]①現況報告書!H115=\"\",\"\",[1]①現況報告書!H115)","v":"清水　初枝"},{"$nulls":9},{"$f":"IF([1]①現況報告書!R115=\"\",\"\",[1]①現況報告書!R115)","v":"2013-09-28"},null,null,null,"～",{"$f":"IF([1]①現況報告書!W115=\"\",\"\",[1]①現況報告書!W115)","v":"2015-09-27"}]
[null,null,null,{"$f":"IF([1]①現況報告書!D116=\"\",\"\",[1]①現況報告書!D116)","v":"理事"},null,null,null,{"$f":"IF([1]①現況報告書!H116=\"\",\"\",[1]①現況報告書!H116)","v":"近池　雅良"},{"$nulls":9},{"$f":"IF([1]①現況報告書!R116=\"\",\"\",[1]①現況報告書!R116)","v":"2013-09-28"},null,null,null,"～",{"$f":"IF([1]①現況報告書!W116=\"\",\"\",[1]①現況報告書!W116)","v":"2015-09-27"}]
[null,null,null,{"$f":"IF([1]①現況報告書!D117=\"\",\"\",[1]①現況報告書!D117)","v":"理事"},null,null,null,{"$f":"IF([1]①現況報告書!H117=\"\",\"\",[1]①現況報告書!H117)","v":"皿海　貴裕"},{"$nulls":9},{"$f":"IF([1]①現況報告書!R117=\"\",\"\",[1]①現況報告書!R117)","v":"2013-09-28"},null,null,null,"～",{"$f":"IF([1]①現況報告書!W117=\"\",\"\",[1]①現況報告書!W117)","v":"2015-09-27"}]
[null,null,null,{"$f":"IF([1]①現況報告書!D118=\"\",\"\",[1]①現況報告書!D118)","v":""},null,null,null,{"$f":"IF([1]①現況報告書!H118=\"\",\"\",[1]①現況報告書!H118)","v":""},{"$nulls":9},{"$f":"IF([1]①現況報告書!R118=\"\",\"\",[1]①現況報告書!R118)","v":""},null,null,null,"～",{"$f":"IF([1]①現況報告書!W118=\"\",\"\",[1]①現況報告書!W118)","v":""}]
[null,null,null,{"$f":"IF([1]①現況報告書!D119=\"\",\"\",[1]①現況報告書!D119)","v":""},null,null,null,{"$f":"IF([1]①現況報告書!H119=\"\",\"\",[1]①現況報告書!H119)","v":""},{"$nulls":9},{"$f":"IF([1]①現況報告書!R119=\"\",\"\",[1]①現況報告書!R119)","v":""},null,null,null,"～",{"$f":"IF([1]①現況報告書!W119=\"\",\"\",[1]①現況報告書!W119)","v":""}]
["監事",null,null,"定員",null,null,"現員"]
[null,null,null,{"$f":"IF([1]①現況報告書!D121=\"\",\"\",[1]①現況報告書!D121)","v":2},null,null,{"$f":"IF([1]①現況報告書!G121=\"\",\"\",[1]①現況報告書!G121)","v":2}]
[null,null,null,"氏名",{"$nulls":7},"職業",{"$nulls":6},"任期",{"$nulls":12},"資格",{"$nulls":20},"施設整備又は運営と密接に関連する業務を行う者",null,null,"監事報酬",{"$nulls":5},"理事会への出席回数"]
[{"$nulls":31},"財務諸表等を監査し得る者",{"$nulls":11},"社会福祉事業の学識経験者",null,null,"地域の福祉関係者",null,null,"その他",{"$nulls":5},"支給あり",null,null,"支給なし"]
[{"$nulls":31},"公認会計士、税理士",null,null,"弁護士",null,null,"会社等の監査役、経理責任者等",null,null,"その他"]
[null,null,null,{"$f":"IF([1]①現況報告書!D125=\"\",\"\",[1]①現況報告書!D125)","v":"小野　治男"},{"$nulls":14},{"$f":"IF([1]①現況報告書!S125=\"\",\"\",[1]①現況報告書!S125)","v":"2013-09-28"},{"$nulls":5},"～",{"$f":"IF([1]①現況報告書!Z125=\"\",\"\",[1]①現況報告書!Z125)","v":"2015-09-27"}]
[null,null,null,{"$f":"IF([1]①現況報告書!D126=\"\",\"\",[1]①現況報告書!D126)","v":"藤原　和美"},{"$nulls":14},{"$f":"IF([1]①現況報告書!S126=\"\",\"\",[1]①現況報告書!S126)","v":"2013-09-28"},{"$nulls":5},"～",{"$f":"IF([1]①現況報告書!Z126=\"\",\"\",[1]①現況報告書!Z126)","v":"2015-09-27"}]
["評議員",null,null,"定員",null,null,"現員"]
[null,null,null,{"$f":"IF([1]①現況報告書!D128=\"\",\"\",[1]①現況報告書!D128)","v":20},null,null,{"$f":"IF([1]①現況報告書!G128=\"\",\"\",[1]①現況報告書!G128)","v":20}]
[null,null,null,"氏名",{"$nulls":4},"職業",{"$nulls":5},"任期",{"$nulls":8},"親族等特殊関係者の有無",{"$nulls":8},"理事の親族",null,null,"資格",{"$nulls":17},"施設整備又は運営と密接に関連する業務を行う者",null,null,"理事との兼務",null,null,"職員との兼務",null,null,"評議員会への出席回数"]
[{"$nulls":23},"親族",null,null,"他の社会福祉法人の役員",null,null,"その他",{"$nulls":5},"社会福祉事業の学識経験者",null,null,"地域の福祉関係者",null,null,"地域の代表者",null,null,"施設長",null,null,"利用者の家族の代表",null,null,"その他"]
[null,null,null,{"$f":"IF([1]①現況報告書!D131=\"\",\"\",[1]①現況報告書!D131)","v":"横山　美智子"},{"$nulls":10},{"$f":"IF([1]①現況報告書!O131=\"\",\"\",[1]①現況報告書!O131)","v":"2013-09-28"},null,null,null,"～",{"$f":"IF([1]①現況報告書!T131=\"\",\"\",[1]①現況報告書!T131)","v":"2015-09-27"}]
[null,null,null,{"$f":"IF([1]①現況報告書!D132=\"\",\"\",[1]①現況報告書!D132)","v":"山本　マスコ"},{"$nulls":10},{"$f":"IF([1]①現況報告書!O132=\"\",\"\",[1]①現況報告書!O132)","v":"2013-09-28"},null,null,null,"～",{"$f":"IF([1]①現況報告書!T132=\"\",\"\",[1]①現況報告書!T132)","v":"2015-06-27"}]
[null,null,null,{"$f":"IF([1]①現況報告書!D133=\"\",\"\",[1]①現況報告書!D133)","v":"松葉　志津恵"},{"$nulls":10},{"$f":"IF([1]①現況報告書!O133=\"\",\"\",[1]①現況報告書!O133)","v":"2013-09-28"},null,null,null,"～",{"$f":"IF([1]①現況報告書!T133=\"\",\"\",[1]①現況報告書!T133)","v":"2015-09-27"}]
[null,null,null,{"$f":"IF([1]①現況報告書!D134=\"\",\"\",[1]①現況報告書!D134)","v":"新田　稔"},{"$nulls":10},{"$f":"IF([1]①現況報告書!O134=\"\",\"\",[1]①現況報告書!O134)","v":"2013-09-28"},null,null,null,"～",{"$f":"IF([1]①現況報告書!T134=\"\",\"\",[1]①現況報告書!T134)","v":"2015-09-27"}]
[null,null,null,{"$f":"IF([1]①現況報告書!D135=\"\",\"\",[1]①現況報告書!D135)","v":"藤原　聡"},{"$nulls":10},{"$f":"IF([1]①現況報告書!O135=\"\",\"\",[1]①現況報告書!O135)","v":"2013-09-28"},null,null,null,"～",{"$f":"IF([1]①現況報告書!T135=\"\",\"\",[1]①現況報告書!T135)","v":"2015-09-27"}]
[null,null,null,{"$f":"IF([1]①現況報告書!D136=\"\",\"\",[1]①現況報告書!D136)","v":"清水　初枝"},{"$nulls":10},{"$f":"IF([1]①現況報告書!O136=\"\",\"\",[1]①現況報告書!O136)","v":"2013-09-28"},null,null,null,"～",{"$f":"IF([1]①現況報告書!T136=\"\",\"\",[1]①現況報告書!T136)","v":"2015-09-27"}]
[null,null,null,{"$f":"IF([1]①現況報告書!D137=\"\",\"\",[1]①現況報告書!D137)","v":"近池　雅良"},{"$nulls":10},{"$f":"IF([1]①現況報告書!O137=\"\",\"\",[1]①現況報告書!O137)","v":"2013-09-28"},null,null,null,"～",{"$f":"IF([1]①現況報告書!T137=\"\",\"\",[1]①現況報告書!T137)","v":"2015-09-27"}]
[null,null,null,{"$f":"IF([1]①現況報告書!D138=\"\",\"\",[1]①現況報告書!D138)","v":"皿海　貴裕"},{"$nulls":10},{"$f":"IF([1]①現況報告書!O138=\"\",\"\",[1]①現況報告書!O138)","v":"2013-09-28"},null,null,null,"～",{"$f":"IF([1]①現況報告書!T138=\"\",\"\",[1]①現況報告書!T138)","v":"2015-09-27"}]
[null,null,null,{"$f":"IF([1]①現況報告書!D139=\"\",\"\",[1]①現況報告書!D139)","v":"川崎　直"},{"$nulls":10},{"$f":"IF([1]①現況報告書!O139=\"\",\"\",[1]①現況報告書!O139)","v":"2013-09-28"},null,null,null,"～",{"$f":"IF([1]①現況報告書!T139=\"\",\"\",[1]①現況報告書!T139)","v":"2015-09-27"}]
[null,null,null,{"$f":"IF([1]①現況報告書!D140=\"\",\"\",[1]①現況報告書!D140)","v":"吉原　桂子"},{"$nulls":10},{"$f":"IF([1]①現況報告書!O140=\"\",\"\",[1]①現況報告書!O140)","v":"2013-09-28"},null,null,null,"～",{"$f":"IF([1]①現況報告書!T140=\"\",\"\",[1]①現況報告書!T140)","v":"2015-09-27"}]
[null,null,null,{"$f":"IF([1]①現況報告書!D141=\"\",\"\",[1]①現況報告書!D141)","v":"横山　佳弘"},{"$nulls":10},{"$f":"IF([1]①現況報告書!O141=\"\",\"\",[1]①現況報告書!O141)","v":"2013-09-28"},null,null,null,"～",{"$f":"IF([1]①現況報告書!T141=\"\",\"\",[1]①現況報告書!T141)","v":"2015-09-27"}]
[null,null,null,{"$f":"IF([1]①現況報告書!D142=\"\",\"\",[1]①現況報告書!D142)","v":"後迫　直道"},{"$nulls":10},{"$f":"IF([1]①現況報告書!O142=\"\",\"\",[1]①現況報告書!O142)","v":"2013-09-28"},null,null,null,"～",{"$f":"IF([1]①現況報告書!T142=\"\",\"\",[1]①現況報告書!T142)","v":"2015-09-27"}]
[null,null,null,{"$f":"IF([1]①現況報告書!D143=\"\",\"\",[1]①現況報告書!D143)","v":"瀧安　和美"},{"$nulls":10},{"$f":"IF([1]①現況報告書!O143=\"\",\"\",[1]①現況報告書!O143)","v":"2013-09-28"},null,null,null,"～",{"$f":"IF([1]①現況報告書!T143=\"\",\"\",[1]①現況報告書!T143)","v":"2015-09-27"}]
[null,null,null,{"$f":"IF([1]①現況報告書!D144=\"\",\"\",[1]①現況報告書!D144)","v":"市川　義隆"},{"$nulls":10},{"$f":"IF([1]①現況報告書!O144=\"\",\"\",[1]①現況報告書!O144)","v":"2013-09-28"},null,null,null,"～",{"$f":"IF([1]①現況報告書!T144=\"\",\"\",[1]①現況報告書!T144)","v":"2015-09-27"}]
[null,null,null,{"$f":"IF([1]①現況報告書!D145=\"\",\"\",[1]①現況報告書!D145)","v":"佐藤　正則"},{"$nulls":10},{"$f":"IF([1]①現況報告書!O145=\"\",\"\",[1]①現況報告書!O145)","v":"2013-09-28"},null,null,null,"～",{"$f":"IF([1]①現況報告書!T145=\"\",\"\",[1]①現況報告書!T145)","v":"2015-09-27"}]
[null,null,null,{"$f":"IF([1]①現況報告書!D146=\"\",\"\",[1]①現況報告書!D146)","v":"村田　理恵"},{"$nulls":10},{"$f":"IF([1]①現況報告書!O146=\"\",\"\",[1]①現況報告書!O146)","v":"2013-09-28"},null,null,null,"～",{"$f":"IF([1]①現況報告書!T146=\"\",\"\",[1]①現況報告書!T146)","v":"2015-09-27"}]
[null,null,null,{"$f":"IF([1]①現況報告書!D147=\"\",\"\",[1]①現況報告書!D147)","v":"大場　敬子"},{"$nulls":10},{"$f":"IF([1]①現況報告書!O147=\"\",\"\",[1]①現況報告書!O147)","v":"2013-09-28"},null,null,null,"～",{"$f":"IF([1]①現況報告書!T147=\"\",\"\",[1]①現況報告書!T147)","v":"2015-09-27"}]
[null,null,null,{"$f":"IF([1]①現況報告書!D148=\"\",\"\",[1]①現況報告書!D148)","v":"金山　徹中"},{"$nulls":10},{"$f":"IF([1]①現況報告書!O148=\"\",\"\",[1]①現況報告書!O148)","v":"2013-09-28"},null,null,null,"～",{"$f":"IF([1]①現況報告書!T148=\"\",\"\",[1]①現況報告書!T148)","v":"2015-09-27"}]
[null,null,null,{"$f":"IF([1]①現況報告書!D149=\"\",\"\",[1]①現況報告書!D149)","v":"藤村　由紀子"},{"$nulls":10},{"$f":"IF([1]①現況報告書!O149=\"\",\"\",[1]①現況報告書!O149)","v":"2013-09-28"},null,null,null,"～",{"$f":"IF([1]①現況報告書!T149=\"\",\"\",[1]①現況報告書!T149)","v":"2015-09-27"}]
[null,null,null,{"$f":"IF([1]①現況報告書!D150=\"\",\"\",[1]①現況報告書!D150)","v":"後藤　宏志"},{"$nulls":10},{"$f":"IF([1]①現況報告書!O150=\"\",\"\",[1]①現況報告書!O150)","v":"2013-09-28"},null,null,null,"～",{"$f":"IF([1]①現況報告書!T150=\"\",\"\",[1]①現況報告書!T150)","v":"2015-09-27"}]
[null,null,null,{"$f":"IF([1]①現況報告書!D151=\"\",\"\",[1]①現況報告書!D151)","v":""},{"$nulls":10},{"$f":"IF([1]①現況報告書!O151=\"\",\"\",[1]①現況報告書!O151)","v":""},null,null,null,"～",{"$f":"IF([1]①現況報告書!T151=\"\",\"\",[1]①現況報告書!T151)","v":""}]
[null,null,null,{"$f":"IF([1]①現況報告書!D152=\"\",\"\",[1]①現況報告書!D152)","v":""},{"$nulls":10},{"$f":"IF([1]①現況報告書!O152=\"\",\"\",[1]①現況報告書!O152)","v":""},null,null,null,"～",{"$f":"IF([1]①現況報告書!T152=\"\",\"\",[1]①現況報告書!T152)","v":""}]
["施設長",null,null,"施設名",{"$nulls":10},"氏名",{"$nulls":8},"就任年月日",{"$nulls":8},"法令等に定める資格の有無"]
[null,null,null,{"$f":"IF([1]①現況報告書!D154=\"\",\"\",[1]①現況報告書!D154)","v":"がまのほ"},{"$nulls":10},{"$f":"IF([1]①現況報告書!O154=\"\",\"\",[1]①現況報告書!O154)","v":"皿海　貴裕"},{"$nulls":8},{"$f":"IF([1]①現況報告書!X154=\"\",\"\",[1]①現況報告書!X154)","v":"2007-04-01"},{"$nulls":8},{"$f":"IF([1]①現況報告書!AG154=\"\",\"\",[1]①現況報告書!AG154)","v":"有"}]
[null,null,null,{"$f":"IF([1]①現況報告書!D155=\"\",\"\",[1]①現況報告書!D155)","v":"障害者自立支援センターしんいち"},{"$nulls":10},{"$f":"IF([1]①現況報告書!O155=\"\",\"\",[1]①現況報告書!O155)","v":"皿海　貴裕"},{"$nulls":8},{"$f":"IF([1]①現況報告書!X155=\"\",\"\",[1]①現況報告書!X155)","v":"2003-04-01"},{"$nulls":8},{"$f":"IF([1]①現況報告書!AG155=\"\",\"\",[1]①現況報告書!AG155)","v":""}]
[null,null,null,{"$f":"IF([1]①現況報告書!D156=\"\",\"\",[1]①現況報告書!D156)","v":"らんらん作業所"},{"$nulls":10},{"$f":"IF([1]①現況報告書!O156=\"\",\"\",[1]①現況報告書!O156)","v":"豊原　茂明"},{"$nulls":8},{"$f":"IF([1]①現況報告書!X156=\"\",\"\",[1]①現況報告書!X156)","v":"2014-04-01"},{"$nulls":8},{"$f":"IF([1]①現況報告書!AG156=\"\",\"\",[1]①現況報告書!AG156)","v":""}]
[null,null,null,{"$f":"IF([1]①現況報告書!D157=\"\",\"\",[1]①現況報告書!D157)","v":""},{"$nulls":10},{"$f":"IF([1]①現況報告書!O157=\"\",\"\",[1]①現況報告書!O157)","v":""},{"$nulls":8},{"$f":"IF([1]①現況報告書!X157=\"\",\"\",[1]①現況報告書!X157)","v":""},{"$nulls":8},{"$f":"IF([1]①現況報告書!AG157=\"\",\"\",[1]①現況報告書!AG157)","v":""}]
[null,null,null,{"$f":"IF([1]①現況報告書!D158=\"\",\"\",[1]①現況報告書!D158)","v":""},{"$nulls":10},{"$f":"IF([1]①現況報告書!O158=\"\",\"\",[1]①現況報告書!O158)","v":""},{"$nulls":8},{"$f":"IF([1]①現況報告書!X158=\"\",\"\",[1]①現況報告書!X158)","v":""},{"$nulls":8},{"$f":"IF([1]①現況報告書!AG158=\"\",\"\",[1]①現況報告書!AG158)","v":""}]
[null,null,null,{"$f":"IF([1]①現況報告書!D159=\"\",\"\",[1]①現況報告書!D159)","v":""},{"$nulls":10},{"$f":"IF([1]①現況報告書!O159=\"\",\"\",[1]①現況報告書!O159)","v":""},{"$nulls":8},{"$f":"IF([1]①現況報告書!X159=\"\",\"\",[1]①現況報告書!X159)","v":""},{"$nulls":8},{"$f":"IF([1]①現況報告書!AG159=\"\",\"\",[1]①現況報告書!AG159)","v":""}]
[null,null,null,{"$f":"IF([1]①現況報告書!D160=\"\",\"\",[1]①現況報告書!D160)","v":""},{"$nulls":10},{"$f":"IF([1]①現況報告書!O160=\"\",\"\",[1]①現況報告書!O160)","v":""},{"$nulls":8},{"$f":"IF([1]①現況報告書!X160=\"\",\"\",[1]①現況報告書!X160)","v":""},{"$nulls":8},{"$f":"IF([1]①現況報告書!AG160=\"\",\"\",[1]①現況報告書!AG160)","v":""}]
[null,null,null,{"$f":"IF([1]①現況報告書!D161=\"\",\"\",[1]①現況報告書!D161)","v":""},{"$nulls":10},{"$f":"IF([1]①現況報告書!O161=\"\",\"\",[1]①現況報告書!O161)","v":""},{"$nulls":8},{"$f":"IF([1]①現況報告書!X161=\"\",\"\",[1]①現況報告書!X161)","v":""},{"$nulls":8},{"$f":"IF([1]①現況報告書!AG161=\"\",\"\",[1]①現況報告書!AG161)","v":""}]
[null,null,null,{"$f":"IF([1]①現況報告書!D162=\"\",\"\",[1]①現況報告書!D162)","v":""},{"$nulls":10},{"$f":"IF([1]①現況報告書!O162=\"\",\"\",[1]①現況報告書!O162)","v":""},{"$nulls":8},{"$f":"IF([1]①現況報告書!X162=\"\",\"\",[1]①現況報告書!X162)","v":""},{"$nulls":8},{"$f":"IF([1]①現況報告書!AG162=\"\",\"\",[1]①現況報告書!AG162)","v":""}]
[null,null,null,{"$f":"IF([1]①現況報告書!D163=\"\",\"\",[1]①現況報告書!D163)","v":""},{"$nulls":10},{"$f":"IF([1]①現況報告書!O163=\"\",\"\",[1]①現況報告書!O163)","v":""},{"$nulls":8},{"$f":"IF([1]①現況報告書!X163=\"\",\"\",[1]①現況報告書!X163)","v":""},{"$nulls":8},{"$f":"IF([1]①現況報告書!AG163=\"\",\"\",[1]①現況報告書!AG163)","v":""}]
[null,null,null,{"$f":"IF([1]①現況報告書!D164=\"\",\"\",[1]①現況報告書!D164)","v":""},{"$nulls":10},{"$f":"IF([1]①現況報告書!O164=\"\",\"\",[1]①現況報告書!O164)","v":""},{"$nulls":8},{"$f":"IF([1]①現況報告書!X164=\"\",\"\",[1]①現況報告書!X164)","v":""},{"$nulls":8},{"$f":"IF([1]①現況報告書!AG164=\"\",\"\",[1]①現況報告書!AG164)","v":""}]
[null,null,null,{"$f":"IF([1]①現況報告書!D165=\"\",\"\",[1]①現況報告書!D165)","v":""},{"$nulls":10},{"$f":"IF([1]①現況報告書!O165=\"\",\"\",[1]①現況報告書!O165)","v":""},{"$nulls":8},{"$f":"IF([1]①現況報告書!X165=\"\",\"\",[1]①現況報告書!X165)","v":""},{"$nulls":8},{"$f":"IF([1]①現況報告書!AG165=\"\",\"\",[1]①現況報告書!AG165)","v":""}]
[null,null,null,{"$f":"IF([1]①現況報告書!D166=\"\",\"\",[1]①現況報告書!D166)","v":""},{"$nulls":10},{"$f":"IF([1]①現況報告書!O166=\"\",\"\",[1]①現況報告書!O166)","v":""},{"$nulls":8},{"$f":"IF([1]①現況報告書!X166=\"\",\"\",[1]①現況報告書!X166)","v":""},{"$nulls":8},{"$f":"IF([1]①現況報告書!AG166=\"\",\"\",[1]①現況報告書!AG166)","v":""}]
[null,null,null,{"$f":"IF([1]①現況報告書!D167=\"\",\"\",[1]①現況報告書!D167)","v":""},{"$nulls":10},{"$f":"IF([1]①現況報告書!O167=\"\",\"\",[1]①現況報告書!O167)","v":""},{"$nulls":8},{"$f":"IF([1]①現況報告書!X167=\"\",\"\",[1]①現況報告書!X167)","v":""},{"$nulls":8},{"$f":"IF([1]①現況報告書!AG167=\"\",\"\",[1]①現況報告書!AG167)","v":""}]
[null,null,null,{"$f":"IF([1]①現況報告書!D168=\"\",\"\",[1]①現況報告書!D168)","v":""},{"$nulls":10},{"$f":"IF([1]①現況報告書!O168=\"\",\"\",[1]①現況報告書!O168)","v":""},{"$nulls":8},{"$f":"IF([1]①現況報告書!X168=\"\",\"\",[1]①現況報告書!X168)","v":""},{"$nulls":8},{"$f":"IF([1]①現況報告書!AG168=\"\",\"\",[1]①現況報告書!AG168)","v":""}]
[null,null,null,{"$f":"IF([1]①現況報告書!D169=\"\",\"\",[1]①現況報告書!D169)","v":""},{"$nulls":10},{"$f":"IF([1]①現況報告書!O169=\"\",\"\",[1]①現況報告書!O169)","v":""},{"$nulls":8},{"$f":"IF([1]①現況報告書!X169=\"\",\"\",[1]①現況報告書!X169)","v":""},{"$nulls":8},{"$f":"IF([1]①現況報告書!AG169=\"\",\"\",[1]①現況報告書!AG169)","v":""}]
[null,null,null,{"$f":"IF([1]①現況報告書!D170=\"\",\"\",[1]①現況報告書!D170)","v":""},{"$nulls":10},{"$f":"IF([1]①現況報告書!O170=\"\",\"\",[1]①現況報告書!O170)","v":""},{"$nulls":8},{"$f":"IF([1]①現況報告書!X170=\"\",\"\",[1]①現況報告書!X170)","v":""},{"$nulls":8},{"$f":"IF([1]①現況報告書!AG170=\"\",\"\",[1]①現況報告書!AG170)","v":""}]
[null,null,null,{"$f":"IF([1]①現況報告書!D171=\"\",\"\",[1]①現況報告書!D171)","v":""},{"$nulls":10},{"$f":"IF([1]①現況報告書!O171=\"\",\"\",[1]①現況報告書!O171)","v":""},{"$nulls":8},{"$f":"IF([1]①現況報告書!X171=\"\",\"\",[1]①現況報告書!X171)","v":""},{"$nulls":8},{"$f":"IF([1]①現況報告書!AG171=\"\",\"\",[1]①現況報告書!AG171)","v":""}]
[null,null,null,{"$f":"IF([1]①現況報告書!D172=\"\",\"\",[1]①現況報告書!D172)","v":""},{"$nulls":10},{"$f":"IF([1]①現況報告書!O172=\"\",\"\",[1]①現況報告書!O172)","v":""},{"$nulls":8},{"$f":"IF([1]①現況報告書!X172=\"\",\"\",[1]①現況報告書!X172)","v":""},{"$nulls":8},{"$f":"IF([1]①現況報告書!AG172=\"\",\"\",[1]①現況報告書!AG172)","v":""}]
[null,null,null,{"$f":"IF([1]①現況報告書!D173=\"\",\"\",[1]①現況報告書!D173)","v":""},{"$nulls":10},{"$f":"IF([1]①現況報告書!O173=\"\",\"\",[1]①現況報告書!O173)","v":""},{"$nulls":8},{"$f":"IF([1]①現況報告書!X173=\"\",\"\",[1]①現況報告書!X173)","v":""},{"$nulls":8},{"$f":"IF([1]①現況報告書!AG173=\"\",\"\",[1]①現況報告書!AG173)","v":""}]
["職員",null,null,"常勤専従",null,null,null,"常勤兼務",{"$nulls":7},"非常勤"]
[{"$nulls":11},"換算数",{"$nulls":7},"換算数"]
[null,"法人本部",null,{"$f":"IF([1]①現況報告書!D176=\"\",\"\",[1]①現況報告書!D176)","v":""},null,null,null,{"$f":"IF([1]①現況報告書!H176=\"\",\"\",[1]①現況報告書!H176)","v":""},null,null,null,{"$f":"IF([1]①現況報告書!L176=\"\",\"\",[1]①現況報告書!L176)","v":""},null,null,null,{"$f":"IF([1]①現況報告書!P176=\"\",\"\",[1]①現況報告書!P176)","v":""},null,null,null,{"$f":"IF([1]①現況報告書!T176=\"\",\"\",[1]①現況報告書!T176)","v":""}]
[null,"施設",null,{"$f":"IF([1]①現況報告書!D177=\"\",\"\",[1]①現況報告書!D177)","v":"21"},null,null,null,{"$f":"IF([1]①現況報告書!H177=\"\",\"\",[1]①現況報告書!H177)","v":"3"},null,null,null,{"$f":"IF([1]①現況報告書!L177=\"\",\"\",[1]①現況報告書!L177)","v":"3"},null,null,null,{"$f":"IF([1]①現況報告書!P177=\"\",\"\",[1]①現況報告書!P177)","v":"14"},null,null,null,{"$f":"IF([1]①現況報告書!T177=\"\",\"\",[1]①現況報告書!T177)","v":"7.3"}]
["理事会",null,null,"開催年月日",{"$nulls":7},"出席者数",null,null,null,"書面出席者数",null,null,null,"監事出席の有無",null,null,null,"決議事項"]
[null,null,null,{"$f":"IF([1]①現況報告書!D179=\"\",\"\",[1]①現況報告書!D179)","v":"2014-05-24"},{"$nulls":7},{"$f":"IF([1]①現況報告書!L179=\"\",\"\",[1]①現況報告書!L179)","v":8},null,null,null,{"$f":"IF([1]①現況報告書!P179=\"\",\"\",[1]①現況報告書!P179)","v":8},null,null,null,{"$f":"IF([1]①現況報告書!T179=\"\",\"\",[1]①現況報告書!T179)","v":"有"},null,null,null,{"$f":"IF([1]①現況報告書!X179=\"\",\"\",[1]①現況報告書!X179)","v":"2013年度事業報告/2013年度決算報告/2013年度監事監査報告/らんらん作業所土地建物賃貸契約覚書の説明及び"}]
[null,null,null,{"$f":"IF([1]①現況報告書!D180=\"\",\"\",[1]①現況報告書!D180)","v":""},{"$nulls":7},{"$f":"IF([1]①現況報告書!L180=\"\",\"\",[1]①現況報告書!L180)","v":""},null,null,null,{"$f":"IF([1]①現況報告書!P180=\"\",\"\",[1]①現況報告書!P180)","v":""},null,null,null,{"$f":"IF([1]①現況報告書!T180=\"\",\"\",[1]①現況報告書!T180)","v":""},null,null,null,{"$f":"IF([1]①現況報告書!X180=\"\",\"\",[1]①現況報告書!X180)","v":"連帯保証人について/会計ソフト導入及び内部監査人について"}]
[null,null,null,{"$f":"IF([1]①現況報告書!D181=\"\",\"\",[1]①現況報告書!D181)","v":"2014-08-27"},{"$nulls":7},{"$f":"IF([1]①現況報告書!L181=\"\",\"\",[1]①現況報告書!L181)","v":6},null,null,null,{"$f":"IF([1]①現況報告書!P181=\"\",\"\",[1]①現況報告書!P181)","v":6},null,null,null,{"$f":"IF([1]①現況報告書!T181=\"\",\"\",[1]①現況報告書!T181)","v":"有"},null,null,null,{"$f":"IF([1]①現況報告書!X181=\"\",\"\",[1]①現況報告書!X181)","v":"らんらん作業所賃貸契約について/2015年度の事業展開について/職員採用について/会計ソフト選定/ホームページソフト選定"}]
[null,null,null,{"$f":"IF([1]①現況報告書!D182=\"\",\"\",[1]①現況報告書!D182)","v":"2014-09-27"},{"$nulls":7},{"$f":"IF([1]①現況報告書!L182=\"\",\"\",[1]①現況報告書!L182)","v":8},null,null,null,{"$f":"IF([1]①現況報告書!P182=\"\",\"\",[1]①現況報告書!P182)","v":8},null,null,null,{"$f":"IF([1]①現況報告書!T182=\"\",\"\",[1]①現況報告書!T182)","v":"有"},null,null,null,{"$f":"IF([1]①現況報告書!X182=\"\",\"\",[1]①現況報告書!X182)","v":"2014年度第1次補正予算/らんらん作業所賃貸契約/2015年度の事業について/会計ソフト契約について/ホームページ作成に"}]
[null,null,null,{"$f":"IF([1]①現況報告書!D183=\"\",\"\",[1]①現況報告書!D183)","v":""},{"$nulls":7},{"$f":"IF([1]①現況報告書!L183=\"\",\"\",[1]①現況報告書!L183)","v":""},null,null,null,{"$f":"IF([1]①現況報告書!P183=\"\",\"\",[1]①現況報告書!P183)","v":""},null,null,null,{"$f":"IF([1]①現況報告書!T183=\"\",\"\",[1]①現況報告書!T183)","v":""},null,null,null,{"$f":"IF([1]①現況報告書!X183=\"\",\"\",[1]①現況報告書!X183)","v":"ついて"}]
[null,null,null,{"$f":"IF([1]①現況報告書!D184=\"\",\"\",[1]①現況報告書!D184)","v":"2014-12-13"},{"$nulls":7},{"$f":"IF([1]①現況報告書!L184=\"\",\"\",[1]①現況報告書!L184)","v":6},null,null,null,{"$f":"IF([1]①現況報告書!P184=\"\",\"\",[1]①現況報告書!P184)","v":6},null,null,null,{"$f":"IF([1]①現況報告書!T184=\"\",\"\",[1]①現況報告書!T184)","v":"有"},null,null,null,{"$f":"IF([1]①現況報告書!X184=\"\",\"\",[1]①現況報告書!X184)","v":"2014年度第2次補正予算/らんらん作業所賃貸契約について/2015年の事業申請について/2015年度経理規程/就業規則"}]
[null,null,null,{"$f":"IF([1]①現況報告書!D185=\"\",\"\",[1]①現況報告書!D185)","v":""},{"$nulls":7},{"$f":"IF([1]①現況報告書!L185=\"\",\"\",[1]①現況報告書!L185)","v":""},null,null,null,{"$f":"IF([1]①現況報告書!P185=\"\",\"\",[1]①現況報告書!P185)","v":""},null,null,null,{"$f":"IF([1]①現況報告書!T185=\"\",\"\",[1]①現況報告書!T185)","v":""},null,null,null,{"$f":"IF([1]①現況報告書!X185=\"\",\"\",[1]①現況報告書!X185)","v":"について/がまのほ改修工事入札について/らんらん作業所開所式について/その他"}]
[null,null,null,{"$f":"IF([1]①現況報告書!D186=\"\",\"\",[1]①現況報告書!D186)","v":"2015-03-21"},{"$nulls":7},{"$f":"IF([1]①現況報告書!L186=\"\",\"\",[1]①現況報告書!L186)","v":7},null,null,null,{"$f":"IF([1]①現況報告書!P186=\"\",\"\",[1]①現況報告書!P186)","v":7},null,null,null,{"$f":"IF([1]①現況報告書!T186=\"\",\"\",[1]①現況報告書!T186)","v":"有"},null,null,null,{"$f":"IF([1]①現況報告書!X186=\"\",\"\",[1]①現況報告書!X186)","v":"2014年度第3次補正予算/2015年度事業計画/2015年度予算/2015年度事業指定について/定款変更について/就業規則"}]
[null,null,null,{"$f":"IF([1]①現況報告書!D187=\"\",\"\",[1]①現況報告書!D187)","v":""},{"$nulls":7},{"$f":"IF([1]①現況報告書!L187=\"\",\"\",[1]①現況報告書!L187)","v":""},null,null,null,{"$f":"IF([1]①現況報告書!P187=\"\",\"\",[1]①現況報告書!P187)","v":""},null,null,null,{"$f":"IF([1]①現況報告書!T187=\"\",\"\",[1]①現況報告書!T187)","v":""},null,null,null,{"$f":"IF([1]①現況報告書!X187=\"\",\"\",[1]①現況報告書!X187)","v":"の修正/経費配分表について/がまのほ改修工事について/軽自動車リース契約について/相談支援事業支援計画作成"}]
[null,null,null,{"$f":"IF([1]①現況報告書!D188=\"\",\"\",[1]①現況報告書!D188)","v":""},{"$nulls":7},{"$f":"IF([1]①現況報告書!L188=\"\",\"\",[1]①現況報告書!L188)","v":""},null,null,null,{"$f":"IF([1]①現況報告書!P188=\"\",\"\",[1]①現況報告書!P188)","v":""},null,null,null,{"$f":"IF([1]①現況報告書!T188=\"\",\"\",[1]①現況報告書!T188)","v":""},null,null,null,{"$f":"IF([1]①現況報告書!X188=\"\",\"\",[1]①現況報告書!X188)","v":"ソフトについて/業務及び緊急時連絡用携帯電話購入について"}]
[null,null,null,{"$f":"IF([1]①現況報告書!D189=\"\",\"\",[1]①現況報告書!D189)","v":""},{"$nulls":7},{"$f":"IF([1]①現況報告書!L189=\"\",\"\",[1]①現況報告書!L189)","v":""},null,null,null,{"$f":"IF([1]①現況報告書!P189=\"\",\"\",[1]①現況報告書!P189)","v":""},null,null,null,{"$f":"IF([1]①現況報告書!T189=\"\",\"\",[1]①現況報告書!T189)","v":""},null,null,null,{"$f":"IF([1]①現況報告書!X189=\"\",\"\",[1]①現況報告書!X189)","v":""}]
[null,null,null,{"$f":"IF([1]①現況報告書!D190=\"\",\"\",[1]①現況報告書!D190)","v":""},{"$nulls":7},{"$f":"IF([1]①現況報告書!L190=\"\",\"\",[1]①現況報告書!L190)","v":""},null,null,null,{"$f":"IF([1]①現況報告書!P190=\"\",\"\",[1]①現況報告書!P190)","v":""},null,null,null,{"$f":"IF([1]①現況報告書!T190=\"\",\"\",[1]①現況報告書!T190)","v":""},null,null,null,{"$f":"IF([1]①現況報告書!X190=\"\",\"\",[1]①現況報告書!X190)","v":""}]
["評議員会",null,null,"開催年月日",{"$nulls":7},"出席者数",null,null,null,"監事出席の有無",null,null,null,"決議事項"]
[null,null,null,{"$f":"IF([1]①現況報告書!D192=\"\",\"\",[1]①現況報告書!D192)","v":"2014-05-24"},{"$nulls":7},{"$f":"IF([1]①現況報告書!L192=\"\",\"\",[1]①現況報告書!L192)","v":18},null,null,null,{"$f":"IF([1]①現況報告書!P192=\"\",\"\",[1]①現況報告書!P192)","v":"有"},null,null,null,{"$f":"IF([1]①現況報告書!T192=\"\",\"\",[1]①現況報告書!T192)","v":"2013年度事業報告/2013年度決算報告/2013年度監事監査報告/らんらん作業所土地建物賃貸借契約について説明"}]
[null,null,null,{"$f":"IF([1]①現況報告書!D193=\"\",\"\",[1]①現況報告書!D193)","v":"2014-09-27"},{"$nulls":7},{"$f":"IF([1]①現況報告書!L193=\"\",\"\",[1]①現況報告書!L193)","v":19},null,null,null,{"$f":"IF([1]①現況報告書!P193=\"\",\"\",[1]①現況報告書!P193)","v":"有"},null,null,null,{"$f":"IF([1]①現況報告書!T193=\"\",\"\",[1]①現況報告書!T193)","v":"2014年度第1次補正予算/らんらん作業所賃貸借契約/2015年度の事業について/ホームページの作成について"}]
[null,null,null,{"$f":"IF([1]①現況報告書!D194=\"\",\"\",[1]①現況報告書!D194)","v":"2014-12-13"},{"$nulls":7},{"$f":"IF([1]①現況報告書!L194=\"\",\"\",[1]①現況報告書!L194)","v":14},null,null,null,{"$f":"IF([1]①現況報告書!P194=\"\",\"\",[1]①現況報告書!P194)","v":"有"},null,null,null,{"$f":"IF([1]①現況報告書!T194=\"\",\"\",[1]①現況報告書!T194)","v":"らんらん作業所賃貸借契約について/2014年度第2次補正予算/2015年の事業申請について/2015年度経理規程/就業規則について"}]
[null,null,null,{"$f":"IF([1]①現況報告書!D195=\"\",\"\",[1]①現況報告書!D195)","v":""},{"$nulls":7},{"$f":"IF([1]①現況報告書!L195=\"\",\"\",[1]①現況報告書!L195)","v":""},null,null,null,{"$f":"IF([1]①現況報告書!P195=\"\",\"\",[1]①現況報告書!P195)","v":""},null,null,null,{"$f":"IF([1]①現況報告書!T195=\"\",\"\",[1]①現況報告書!T195)","v":"がまのほ改修工事/らんらん作業所開所式/その他"}]
[null,null,null,{"$f":"IF([1]①現況報告書!D196=\"\",\"\",[1]①現況報告書!D196)","v":"2015-03-21"},{"$nulls":7},{"$f":"IF([1]①現況報告書!L196=\"\",\"\",[1]①現況報告書!L196)","v":16},null,null,null,{"$f":"IF([1]①現況報告書!P196=\"\",\"\",[1]①現況報告書!P196)","v":"無"},null,null,null,{"$f":"IF([1]①現況報告書!T196=\"\",\"\",[1]①現況報告書!T196)","v":"2014年度第3次補正予算/2015年度事業計画/2015年度予算/2015年度事業指定について/定款変更について/就業規則の修正"}]
[null,null,null,{"$f":"IF([1]①現況報告書!D197=\"\",\"\",[1]①現況報告書!D197)","v":""},{"$nulls":7},{"$f":"IF([1]①現況報告書!L197=\"\",\"\",[1]①現況報告書!L197)","v":""},null,null,null,{"$f":"IF([1]①現況報告書!P197=\"\",\"\",[1]①現況報告書!P197)","v":""},null,null,null,{"$f":"IF([1]①現況報告書!T197=\"\",\"\",[1]①現況報告書!T197)","v":"経費配分表について"}]
[null,null,null,{"$f":"IF([1]①現況報告書!D198=\"\",\"\",[1]①現況報告書!D198)","v":""},{"$nulls":7},{"$f":"IF([1]①現況報告書!L198=\"\",\"\",[1]①現況報告書!L198)","v":""},null,null,null,{"$f":"IF([1]①現況報告書!P198=\"\",\"\",[1]①現況報告書!P198)","v":""},null,null,null,{"$f":"IF([1]①現況報告書!T198=\"\",\"\",[1]①現況報告書!T198)","v":""}]
[null,null,null,{"$f":"IF([1]①現況報告書!D199=\"\",\"\",[1]①現況報告書!D199)","v":""},{"$nulls":7},{"$f":"IF([1]①現況報告書!L199=\"\",\"\",[1]①現況報告書!L199)","v":""},null,null,null,{"$f":"IF([1]①現況報告書!P199=\"\",\"\",[1]①現況報告書!P199)","v":""},null,null,null,{"$f":"IF([1]①現況報告書!T199=\"\",\"\",[1]①現況報告書!T199)","v":""}]
[null,null,null,{"$f":"IF([1]①現況報告書!D200=\"\",\"\",[1]①現況報告書!D200)","v":""},{"$nulls":7},{"$f":"IF([1]①現況報告書!L200=\"\",\"\",[1]①現況報告書!L200)","v":""},null,null,null,{"$f":"IF([1]①現況報告書!P200=\"\",\"\",[1]①現況報告書!P200)","v":""},null,null,null,{"$f":"IF([1]①現況報告書!T200=\"\",\"\",[1]①現況報告書!T200)","v":""}]
[null,null,null,{"$f":"IF([1]①現況報告書!D201=\"\",\"\",[1]①現況報告書!D201)","v":""},{"$nulls":7},{"$f":"IF([1]①現況報告書!L201=\"\",\"\",[1]①現況報告書!L201)","v":""},null,null,null,{"$f":"IF([1]①現況報告書!P201=\"\",\"\",[1]①現況報告書!P201)","v":""},null,null,null,{"$f":"IF([1]①現況報告書!T201=\"\",\"\",[1]①現況報告書!T201)","v":""}]
[null,null,null,{"$f":"IF([1]①現況報告書!D202=\"\",\"\",[1]①現況報告書!D202)","v":""},{"$nulls":7},{"$f":"IF([1]①現況報告書!L202=\"\",\"\",[1]①現況報告書!L202)","v":""},null,null,null,{"$f":"IF([1]①現況報告書!P202=\"\",\"\",[1]①現況報告書!P202)","v":""},null,null,null,{"$f":"IF([1]①現況報告書!T202=\"\",\"\",[1]①現況報告書!T202)","v":""}]
[null,null,null,{"$f":"IF([1]①現況報告書!D203=\"\",\"\",[1]①現況報告書!D203)","v":""},{"$nulls":7},{"$f":"IF([1]①現況報告書!L203=\"\",\"\",[1]①現況報告書!L203)","v":""},null,null,null,{"$f":"IF([1]①現況報告書!P203=\"\",\"\",[1]①現況報告書!P203)","v":""},null,null,null,{"$f":"IF([1]①現況報告書!T203=\"\",\"\",[1]①現況報告書!T203)","v":""}]
["監事監査",null,null,"監査年月日",{"$nulls":7},"監査者",{"$nulls":7},"監査報告の有無",{"$nulls":4},"指摘事項",{"$nulls":19},"改善事項"]
[null,null,null,{"$f":"IF([1]①現況報告書!D205=\"\",\"\",[1]①現況報告書!D205)","v":"2014-05-21"},{"$nulls":7},{"$f":"IF([1]①現況報告書!L205=\"\",\"\",[1]①現況報告書!L205)","v":"小野　治男／藤原　和美"},{"$nulls":7},{"$f":"IF([1]①現況報告書!T205=\"\",\"\",[1]①現況報告書!T205)","v":"有"},{"$nulls":4},{"$f":"IF([1]①現況報告書!Y205=\"\",\"\",[1]①現況報告書!Y205)","v":"なし"},{"$nulls":19},{"$f":"IF([1]①現況報告書!AS205=\"\",\"\",[1]①現況報告書!AS205)","v":"なし"}]
[null,null,null,{"$f":"IF([1]①現況報告書!D206=\"\",\"\",[1]①現況報告書!D206)","v":""},{"$nulls":7},{"$f":"IF([1]①現況報告書!L206=\"\",\"\",[1]①現況報告書!L206)","v":""},{"$nulls":7},{"$f":"IF([1]①現況報告書!T206=\"\",\"\",[1]①現況報告書!T206)","v":""},{"$nulls":4},{"$f":"IF([1]①現況報告書!Y206=\"\",\"\",[1]①現況報告書!Y206)","v":""},{"$nulls":19},{"$f":"IF([1]①現況報告書!AS206=\"\",\"\",[1]①現況報告書!AS206)","v":""}]
[null,null,null,{"$f":"IF([1]①現況報告書!D207=\"\",\"\",[1]①現況報告書!D207)","v":""},{"$nulls":7},{"$f":"IF([1]①現況報告書!L207=\"\",\"\",[1]①現況報告書!L207)","v":""},{"$nulls":7},{"$f":"IF([1]①現況報告書!T207=\"\",\"\",[1]①現況報告書!T207)","v":""},{"$nulls":4},{"$f":"IF([1]①現況報告書!Y207=\"\",\"\",[1]①現況報告書!Y207)","v":""},{"$nulls":19},{"$f":"IF([1]①現況報告書!AS207=\"\",\"\",[1]①現況報告書!AS207)","v":""}]
[null,null,null,{"$f":"IF([1]①現況報告書!D208=\"\",\"\",[1]①現況報告書!D208)","v":""},{"$nulls":7},{"$f":"IF([1]①現況報告書!L208=\"\",\"\",[1]①現況報告書!L208)","v":""},{"$nulls":7},{"$f":"IF([1]①現況報告書!T208=\"\",\"\",[1]①現況報告書!T208)","v":""},{"$nulls":4},{"$f":"IF([1]①現況報告書!Y208=\"\",\"\",[1]①現況報告書!Y208)","v":""},{"$nulls":19},{"$f":"IF([1]①現況報告書!AS208=\"\",\"\",[1]①現況報告書!AS208)","v":""}]
[]
["Ⅳ 資産管理",{"$nulls":52},"平成",null,null,{"$f":"IF([1]①現況報告書!BE210=\"\",\"\",[1]①現況報告書!BE210)","v":27},null,"年3月31日現在"]
["不動産の所有状況",null,null,"所在地",{"$nulls":14},"面積",{"$nulls":5},"評価額（千円）",{"$nulls":5},"担保提供の状況"]
[{"$nulls":30},"提供年月日",{"$nulls":6},"借入額（千円）",{"$nulls":6},"借入先",{"$nulls":8},"償還期限",{"$nulls":6},"所轄庁の承認の有無"]
[null,"基本財産","土地",{"$f":"IF([1]①現況報告書!D213=\"\",\"\",[1]①現況報告書!D213)","v":"福山市新市町相方1172－1"},{"$nulls":14},{"$f":"IF([1]①現況報告書!S213=\"\",\"\",[1]①現況報告書!S213)","v":"1606㎡"}]
[null,null,null,{"$f":"IF([1]①現況報告書!D214=\"\",\"\",[1]①現況報告書!D214)","v":"福山市新市町相方1172－2"},{"$nulls":14},{"$f":"IF([1]①現況報告書!S214=\"\",\"\",[1]①現況報告書!S214)","v":"572㎡"}]
[null,null,null,{"$f":"IF([1]①現況報告書!D215=\"\",\"\",[1]①現況報告書!D215)","v":"福山市新市町相方1172－3"},{"$nulls":14},{"$f":"IF([1]①現況報告書!S215=\"\",\"\",[1]①現況報告書!S215)","v":"519㎡"}]
[null,null,null,{"$f":"IF([1]①現況報告書!D216=\"\",\"\",[1]①現況報告書!D216)","v":"福山市新市町相方1171－1"},{"$nulls":14},{"$f":"IF([1]①現況報告書!S216=\"\",\"\",[1]①現況報告書!S216)","v":"199㎡"}]
[null,null,null,{"$f":"IF([1]①現況報告書!D217=\"\",\"\",[1]①現況報告書!D217)","v":"福山市新市町相方1171－2"},{"$nulls":14},{"$f":"IF([1]①現況報告書!S217=\"\",\"\",[1]①現況報告書!S217)","v":"450㎡"}]
[null,null,null,{"$f":"IF([1]①現況報告書!D218=\"\",\"\",[1]①現況報告書!D218)","v":""},{"$nulls":14},{"$f":"IF([1]①現況報告書!S218=\"\",\"\",[1]①現況報告書!S218)","v":""}]
[null,null,null,{"$f":"IF([1]①現況報告書!D219=\"\",\"\",[1]①現況報告書!D219)","v":""},{"$nulls":14},{"$f":"IF([1]①現況報告書!S219=\"\",\"\",[1]①現況報告書!S219)","v":""}]
[null,null,null,{"$f":"IF([1]①現況報告書!D220=\"\",\"\",[1]①現況報告書!D220)","v":""},{"$nulls":14},{"$f":"IF([1]①現況報告書!S220=\"\",\"\",[1]①現況報告書!S220)","v":""}]
[null,null,null,{"$f":"IF([1]①現況報告書!D221=\"\",\"\",[1]①現況報告書!D221)","v":""},{"$nulls":14},{"$f":"IF([1]①現況報告書!S221=\"\",\"\",[1]①現況報告書!S221)","v":""}]
[null,null,null,{"$f":"IF([1]①現況報告書!D222=\"\",\"\",[1]①現況報告書!D222)","v":""},{"$nulls":14},{"$f":"IF([1]①現況報告書!S222=\"\",\"\",[1]①現況報告書!S222)","v":""}]
[null,null,null,{"$f":"IF([1]①現況報告書!D223=\"\",\"\",[1]①現況報告書!D223)","v":""},{"$nulls":14},{"$f":"IF([1]①現況報告書!S223=\"\",\"\",[1]①現況報告書!S223)","v":""}]
[null,null,null,{"$f":"IF([1]①現況報告書!D224=\"\",\"\",[1]①現況報告書!D224)","v":""},{"$nulls":14},{"$f":"IF([1]①現況報告書!S224=\"\",\"\",[1]①現況報告書!S224)","v":""}]
[null,null,null,{"$f":"IF([1]①現況報告書!D225=\"\",\"\",[1]①現況報告書!D225)","v":""},{"$nulls":14},{"$f":"IF([1]①現況報告書!S225=\"\",\"\",[1]①現況報告書!S225)","v":""}]
[null,null,null,{"$f":"IF([1]①現況報告書!D226=\"\",\"\",[1]①現況報告書!D226)","v":""},{"$nulls":14},{"$f":"IF([1]①現況報告書!S226=\"\",\"\",[1]①現況報告書!S226)","v":""}]
[null,null,null,{"$f":"IF([1]①現況報告書!D227=\"\",\"\",[1]①現況報告書!D227)","v":""},{"$nulls":14},{"$f":"IF([1]①現況報告書!S227=\"\",\"\",[1]①現況報告書!S227)","v":""}]
[null,null,null,{"$f":"IF([1]①現況報告書!D228=\"\",\"\",[1]①現況報告書!D228)","v":""},{"$nulls":14},{"$f":"IF([1]①現況報告書!S228=\"\",\"\",[1]①現況報告書!S228)","v":""}]
[null,null,"建物","福山市新市町相方1172－1",{"$nulls":14},"188.17㎡"]
[null,null,null,"福山市新市町相方1172－1",{"$nulls":14},"295.36㎡"]
[null,null,null,{"$f":"IF([1]①現況報告書!D231=\"\",\"\",[1]①現況報告書!D231)","v":""},{"$nulls":14},{"$f":"IF([1]①現況報告書!S231=\"\",\"\",[1]①現況報告書!S231)","v":""}]
[null,null,null,{"$f":"IF([1]①現況報告書!D232=\"\",\"\",[1]①現況報告書!D232)","v":""},{"$nulls":14},{"$f":"IF([1]①現況報告書!S232=\"\",\"\",[1]①現況報告書!S232)","v":""}]
[null,null,null,{"$f":"IF([1]①現況報告書!D233=\"\",\"\",[1]①現況報告書!D233)","v":""},{"$nulls":14},{"$f":"IF([1]①現況報告書!S233=\"\",\"\",[1]①現況報告書!S233)","v":""}]
[null,null,null,{"$f":"IF([1]①現況報告書!D234=\"\",\"\",[1]①現況報告書!D234)","v":""},{"$nulls":14},{"$f":"IF([1]①現況報告書!S234=\"\",\"\",[1]①現況報告書!S234)","v":""}]
[null,null,null,{"$f":"IF([1]①現況報告書!D235=\"\",\"\",[1]①現況報告書!D235)","v":""},{"$nulls":14},{"$f":"IF([1]①現況報告書!S235=\"\",\"\",[1]①現況報告書!S235)","v":""}]
[null,null,null,{"$f":"IF([1]①現況報告書!D236=\"\",\"\",[1]①現況報告書!D236)","v":""},{"$nulls":14},{"$f":"IF([1]①現況報告書!S236=\"\",\"\",[1]①現況報告書!S236)","v":""}]
[null,null,null,{"$f":"IF([1]①現況報告書!D237=\"\",\"\",[1]①現況報告書!D237)","v":""},{"$nulls":14},{"$f":"IF([1]①現況報告書!S237=\"\",\"\",[1]①現況報告書!S237)","v":""}]
[null,null,null,{"$f":"IF([1]①現況報告書!D238=\"\",\"\",[1]①現況報告書!D238)","v":""},{"$nulls":14},{"$f":"IF([1]①現況報告書!S238=\"\",\"\",[1]①現況報告書!S238)","v":""}]
[null,null,null,{"$f":"IF([1]①現況報告書!D239=\"\",\"\",[1]①現況報告書!D239)","v":""},{"$nulls":14},{"$f":"IF([1]①現況報告書!S239=\"\",\"\",[1]①現況報告書!S239)","v":""}]
[null,null,null,{"$f":"IF([1]①現況報告書!D240=\"\",\"\",[1]①現況報告書!D240)","v":""},{"$nulls":14},{"$f":"IF([1]①現況報告書!S240=\"\",\"\",[1]①現況報告書!S240)","v":""}]
[null,null,null,{"$f":"IF([1]①現況報告書!D241=\"\",\"\",[1]①現況報告書!D241)","v":""},{"$nulls":14},{"$f":"IF([1]①現況報告書!S241=\"\",\"\",[1]①現況報告書!S241)","v":""}]
[null,null,null,{"$f":"IF([1]①現況報告書!D242=\"\",\"\",[1]①現況報告書!D242)","v":""},{"$nulls":14},{"$f":"IF([1]①現況報告書!S242=\"\",\"\",[1]①現況報告書!S242)","v":""}]
[null,null,null,{"$f":"IF([1]①現況報告書!D243=\"\",\"\",[1]①現況報告書!D243)","v":""},{"$nulls":14},{"$f":"IF([1]①現況報告書!S243=\"\",\"\",[1]①現況報告書!S243)","v":""}]
[null,null,null,{"$f":"IF([1]①現況報告書!D244=\"\",\"\",[1]①現況報告書!D244)","v":""},{"$nulls":14},{"$f":"IF([1]①現況報告書!S244=\"\",\"\",[1]①現況報告書!S244)","v":""}]
["不動産の所有状況",null,null,"所在地",{"$nulls":14},"面積",{"$nulls":5},"評価額（千円）",{"$nulls":5},"担保提供の状況"]
[{"$nulls":30},"提供年月日",{"$nulls":6},"借入額（千円）",{"$nulls":6},"借入先",{"$nulls":8},"償還期限",{"$nulls":6},"所轄庁の承認の有無"]
[null,"運用財産","土地"]
[]
[null,null,null,{"$f":"IF([1]①現況報告書!D249=\"\",\"\",[1]①現況報告書!D249)","v":""},{"$nulls":14},{"$f":"IF([1]①現況報告書!S249=\"\",\"\",[1]①現況報告書!S249)","v":""}]
[null,null,null,{"$f":"IF([1]①現況報告書!D250=\"\",\"\",[1]①現況報告書!D250)","v":""},{"$nulls":14},{"$f":"IF([1]①現況報告書!S250=\"\",\"\",[1]①現況報告書!S250)","v":""}]
[null,null,null,{"$f":"IF([1]①現況報告書!D251=\"\",\"\",[1]①現況報告書!D251)","v":""},{"$nulls":14},{"$f":"IF([1]①現況報告書!S251=\"\",\"\",[1]①現況報告書!S251)","v":""}]
[null,null,"建物",{"$f":"IF([1]①現況報告書!D252=\"\",\"\",[1]①現況報告書!D252)","v":""},{"$nulls":14},{"$f":"IF([1]①現況報告書!S252=\"\",\"\",[1]①現況報告書!S252)","v":""}]
[null,null,null,{"$f":"IF([1]①現況報告書!D253=\"\",\"\",[1]①現況報告書!D253)","v":""},{"$nulls":14},{"$f":"IF([1]①現況報告書!S253=\"\",\"\",[1]①現況報告書!S253)","v":""}]
[null,null,null,{"$f":"IF([1]①現況報告書!D254=\"\",\"\",[1]①現況報告書!D254)","v":""},{"$nulls":14},{"$f":"IF([1]①現況報告書!S254=\"\",\"\",[1]①現況報告書!S254)","v":""}]
[null,null,null,{"$f":"IF([1]①現況報告書!D255=\"\",\"\",[1]①現況報告書!D255)","v":""},{"$nulls":14},{"$f":"IF([1]①現況報告書!S255=\"\",\"\",[1]①現況報告書!S255)","v":""}]
[null,null,null,{"$f":"IF([1]①現況報告書!D256=\"\",\"\",[1]①現況報告書!D256)","v":""},{"$nulls":14},{"$f":"IF([1]①現況報告書!S256=\"\",\"\",[1]①現況報告書!S256)","v":""}]
[null,"公益事業用財産","土地",{"$f":"IF([1]①現況報告書!D257=\"\",\"\",[1]①現況報告書!D257)","v":""},{"$nulls":14},{"$f":"IF([1]①現況報告書!S257=\"\",\"\",[1]①現況報告書!S257)","v":""}]
[null,null,null,{"$f":"IF([1]①現況報告書!D258=\"\",\"\",[1]①現況報告書!D258)","v":""},{"$nulls":14},{"$f":"IF([1]①現況報告書!S258=\"\",\"\",[1]①現況報告書!S258)","v":""}]
[null,null,null,{"$f":"IF([1]①現況報告書!D259=\"\",\"\",[1]①現況報告書!D259)","v":""},{"$nulls":14},{"$f":"IF([1]①現況報告書!S259=\"\",\"\",[1]①現況報告書!S259)","v":""}]
[null,null,"建物",{"$f":"IF([1]①現況報告書!D260=\"\",\"\",[1]①現況報告書!D260)","v":""},{"$nulls":14},{"$f":"IF([1]①現況報告書!S260=\"\",\"\",[1]①現況報告書!S260)","v":""}]
[null,null,null,{"$f":"IF([1]①現況報告書!D261=\"\",\"\",[1]①現況報告書!D261)","v":""},{"$nulls":14},{"$f":"IF([1]①現況報告書!S261=\"\",\"\",[1]①現況報告書!S261)","v":""}]
[null,null,null,{"$f":"IF([1]①現況報告書!D262=\"\",\"\",[1]①現況報告書!D262)","v":""},{"$nulls":14},{"$f":"IF([1]①現況報告書!S262=\"\",\"\",[1]①現況報告書!S262)","v":""}]
[null,"収益事業用財産","土地",{"$f":"IF([1]①現況報告書!D263=\"\",\"\",[1]①現況報告書!D263)","v":""},{"$nulls":14},{"$f":"IF([1]①現況報告書!S263=\"\",\"\",[1]①現況報告書!S263)","v":""}]
[null,null,null,{"$f":"IF([1]①現況報告書!D264=\"\",\"\",[1]①現況報告書!D264)","v":""},{"$nulls":14},{"$f":"IF([1]①現況報告書!S264=\"\",\"\",[1]①現況報告書!S264)","v":""}]
[null,null,null,{"$f":"IF([1]①現況報告書!D265=\"\",\"\",[1]①現況報告書!D265)","v":""},{"$nulls":14},{"$f":"IF([1]①現況報告書!S265=\"\",\"\",[1]①現況報告書!S265)","v":""}]
[null,null,"建物",{"$f":"IF([1]①現況報告書!D266=\"\",\"\",[1]①現況報告書!D266)","v":""},{"$nulls":14},{"$f":"IF([1]①現況報告書!S266=\"\",\"\",[1]①現況報告書!S266)","v":""}]
[null,null,null,{"$f":"IF([1]①現況報告書!D267=\"\",\"\",[1]①現況報告書!D267)","v":""},{"$nulls":14},{"$f":"IF([1]①現況報告書!S267=\"\",\"\",[1]①現況報告書!S267)","v":""}]
[null,null,null,{"$f":"IF([1]①現況報告書!D268=\"\",\"\",[1]①現況報告書!D268)","v":""},{"$nulls":14},{"$f":"IF([1]①現況報告書!S268=\"\",\"\",[1]①現況報告書!S268)","v":""}]
[]
["Ⅴ その他",{"$nulls":44},"平成",null,null,{"$f":"IF([1]①現況報告書!AW270=\"\",\"\",[1]①現況報告書!AW270)","v":27},null,null,"年4月1日現在"]
["情報公開",null,null,"定款",{"$nulls":5},"役員名簿",{"$nulls":5},"評議員名簿",{"$nulls":5},"財産目録",{"$nulls":5},"事業計画書",{"$nulls":5},"事業報告書",{"$nulls":5},"役員報酬規程",{"$nulls":5},"第三者評価結果",{"$nulls":5},"苦情処理結果"]
[null,"インターネット",null,{"$f":"IF([1]①現況報告書!D272=\"\",\"\",[1]①現況報告書!D272)","v":"その他方法"},{"$nulls":5},{"$f":"IF([1]①現況報告書!J272=\"\",\"\",[1]①現況報告書!J272)","v":"その他方法"},{"$nulls":5},{"$f":"IF([1]①現況報告書!P272=\"\",\"\",[1]①現況報告書!P272)","v":"その他方法"},{"$nulls":5},{"$f":"IF([1]①現況報告書!V272=\"\",\"\",[1]①現況報告書!V272)","v":"法人HP"},{"$nulls":5},{"$f":"IF([1]①現況報告書!AB272=\"\",\"\",[1]①現況報告書!AB272)","v":"その他方法"},{"$nulls":5},{"$f":"IF([1]①現況報告書!AH272=\"\",\"\",[1]①現況報告書!AH272)","v":"法人HP"},{"$nulls":5},{"$f":"IF([1]①現況報告書!AN272=\"\",\"\",[1]①現況報告書!AN272)","v":"その他方法"},{"$nulls":5},{"$f":"IF([1]①現況報告書!AT272=\"\",\"\",[1]①現況報告書!AT272)","v":"公表していない"},{"$nulls":5},{"$f":"IF([1]①現況報告書!AZ272=\"\",\"\",[1]①現況報告書!AZ272)","v":"その他方法"}]
[null,"広報誌",null,{"$f":"IF([1]①現況報告書!D273=\"\",\"\",[1]①現況報告書!D273)","v":""},{"$nulls":5},{"$f":"IF([1]①現況報告書!J273=\"\",\"\",[1]①現況報告書!J273)","v":""},{"$nulls":5},{"$f":"IF([1]①現況報告書!P273=\"\",\"\",[1]①現況報告書!P273)","v":""},{"$nulls":5},{"$f":"IF([1]①現況報告書!V273=\"\",\"\",[1]①現況報告書!V273)","v":""},{"$nulls":5},{"$f":"IF([1]①現況報告書!AB273=\"\",\"\",[1]①現況報告書!AB273)","v":""},{"$nulls":5},{"$f":"IF([1]①現況報告書!AH273=\"\",\"\",[1]①現況報告書!AH273)","v":""},{"$nulls":5},{"$f":"IF([1]①現況報告書!AN273=\"\",\"\",[1]①現況報告書!AN273)","v":""},{"$nulls":5},{"$f":"IF([1]①現況報告書!AT273=\"\",\"\",[1]①現況報告書!AT273)","v":""},{"$nulls":5},{"$f":"IF([1]①現況報告書!AZ273=\"\",\"\",[1]①現況報告書!AZ273)","v":""}]
[null,"新聞",null,{"$f":"IF([1]①現況報告書!D274=\"\",\"\",[1]①現況報告書!D274)","v":""},{"$nulls":5},{"$f":"IF([1]①現況報告書!J274=\"\",\"\",[1]①現況報告書!J274)","v":""},{"$nulls":5},{"$f":"IF([1]①現況報告書!P274=\"\",\"\",[1]①現況報告書!P274)","v":""},{"$nulls":5},{"$f":"IF([1]①現況報告書!V274=\"\",\"\",[1]①現況報告書!V274)","v":""},{"$nulls":5},{"$f":"IF([1]①現況報告書!AB274=\"\",\"\",[1]①現況報告書!AB274)","v":""},{"$nulls":5},{"$f":"IF([1]①現況報告書!AH274=\"\",\"\",[1]①現況報告書!AH274)","v":""},{"$nulls":5},{"$f":"IF([1]①現況報告書!AN274=\"\",\"\",[1]①現況報告書!AN274)","v":""},{"$nulls":5},{"$f":"IF([1]①現況報告書!AT274=\"\",\"\",[1]①現況報告書!AT274)","v":""},{"$nulls":5},{"$f":"IF([1]①現況報告書!AZ274=\"\",\"\",[1]①現況報告書!AZ274)","v":""}]
[null,null,null,"前々年度の財務諸表",{"$nulls":17},"前年度の財務諸表"]
[null,null,null,"貸借対照表",{"$nulls":5},"資金収支計算書",{"$nulls":5},"事業活動計算書\n(事業活動収支計算書)",{"$nulls":5},"貸借対照表",{"$nulls":11},"資金収支計算書",{"$nulls":11},"事業活動計算書(事業活動収支計算書)"]
[{"$nulls":21},"公表方法（予定）",{"$nulls":5},"公表時期（予定）",{"$nulls":5},"公表方法（予定）",{"$nulls":5},"公表時期（予定）",{"$nulls":5},"公表方法（予定）",{"$nulls":5},"公表時期（予定）"]
[null,"インターネット",null,{"$f":"IF([1]①現況報告書!D278=\"\",\"\",[1]①現況報告書!D278)","v":"所轄庁HP"},{"$nulls":5},{"$f":"IF([1]①現況報告書!J278=\"\",\"\",[1]①現況報告書!J278)","v":"所轄庁HP"},{"$nulls":5},{"$f":"IF([1]①現況報告書!P278=\"\",\"\",[1]①現況報告書!P278)","v":"所轄庁HP"},{"$nulls":5},{"$f":"IF([1]①現況報告書!V278=\"\",\"\",[1]①現況報告書!V278)","v":"法人HP"},{"$nulls":5},{"$f":"IF([1]①現況報告書!AB278=\"\",\"\",[1]①現況報告書!AB278)","v":"10～12月"},{"$nulls":5},{"$f":"IF([1]①現況報告書!AH278=\"\",\"\",[1]①現況報告書!AH278)","v":"法人HP"},{"$nulls":5},{"$f":"IF([1]①現況報告書!AN278=\"\",\"\",[1]①現況報告書!AN278)","v":"10～12月"},{"$nulls":5},{"$f":"IF([1]①現況報告書!AT278=\"\",\"\",[1]①現況報告書!AT278)","v":"法人HP"},{"$nulls":5},{"$f":"IF([1]①現況報告書!AZ278=\"\",\"\",[1]①現況報告書!AZ278)","v":"10～12月"}]
[null,"広報誌",null,{"$f":"IF([1]①現況報告書!D279=\"\",\"\",[1]①現況報告書!D279)","v":"○"},{"$nulls":5},{"$f":"IF([1]①現況報告書!J279=\"\",\"\",[1]①現況報告書!J279)","v":""},{"$nulls":5},{"$f":"IF([1]①現況報告書!P279=\"\",\"\",[1]①現況報告書!P279)","v":""},{"$nulls":5},{"$f":"IF([1]①現況報告書!V279=\"\",\"\",[1]①現況報告書!V279)","v":"公表予定あり"},{"$nulls":5},{"$f":"IF([1]①現況報告書!AB279=\"\",\"\",[1]①現況報告書!AB279)","v":""},{"$nulls":5},{"$f":"IF([1]①現況報告書!AH279=\"\",\"\",[1]①現況報告書!AH279)","v":""},{"$nulls":5},{"$f":"IF([1]①現況報告書!AN279=\"\",\"\",[1]①現況報告書!AN279)","v":""},{"$nulls":5},{"$f":"IF([1]①現況報告書!AT279=\"\",\"\",[1]①現況報告書!AT279)","v":""},{"$nulls":5},{"$f":"IF([1]①現況報告書!AZ279=\"\",\"\",[1]①現況報告書!AZ279)","v":""}]
[null,"新聞",null,{"$f":"IF([1]①現況報告書!D280=\"\",\"\",[1]①現況報告書!D280)","v":""},{"$nulls":5},{"$f":"IF([1]①現況報告書!J280=\"\",\"\",[1]①現況報告書!J280)","v":""},{"$nulls":5},{"$f":"IF([1]①現況報告書!P280=\"\",\"\",[1]①現況報告書!P280)","v":""},{"$nulls":5},{"$f":"IF([1]①現況報告書!V280=\"\",\"\",[1]①現況報告書!V280)","v":""},{"$nulls":5},{"$f":"IF([1]①現況報告書!AB280=\"\",\"\",[1]①現況報告書!AB280)","v":""},{"$nulls":5},{"$f":"IF([1]①現況報告書!AH280=\"\",\"\",[1]①現況報告書!AH280)","v":""},{"$nulls":5},{"$f":"IF([1]①現況報告書!AN280=\"\",\"\",[1]①現況報告書!AN280)","v":""},{"$nulls":5},{"$f":"IF([1]①現況報告書!AT280=\"\",\"\",[1]①現況報告書!AT280)","v":""},{"$nulls":5},{"$f":"IF([1]①現況報告書!AZ280=\"\",\"\",[1]①現況報告書!AZ280)","v":""}]
["外部監査",null,null,"平成",null,null,null,{"$f":"IF([1]①現況報告書!H281=\"\",\"\",[1]①現況報告書!H281)","v":""},null,null,null,"年度",null,null,null,"平成",null,null,null,{"$f":"IF([1]①現況報告書!T281=\"\",\"\",[1]①現況報告書!T281)","v":""},null,null,null,"年度",null,null,null,"平成",null,null,null,{"$f":"IF([1]①現況報告書!AF281=\"\",\"\",[1]①現況報告書!AF281)","v":""},null,null,null,"年度",null,null,null,"平成",null,null,null,{"$f":"IF([1]①現況報告書!AR281=\"\",\"\",[1]①現況報告書!AR281)","v":""},null,null,null,"年度",null,null,null,"平成",null,null,null,{"$f":"IF([1]①現況報告書!BD281=\"\",\"\",[1]①現況報告書!BD281)","v":""},null,null,null,"年度"]
[{"$nulls":7},"費用（千円）",{"$nulls":11},"費用（千円）",{"$nulls":11},"費用（千円）",{"$nulls":11},"費用（千円）",{"$nulls":11},"費用（千円）"]
[null,"公認会計士",null,{"$f":"IF([1]①現況報告書!D283=\"\",\"\",[1]①現況報告書!D283)","v":""},{"$nulls":11},{"$f":"IF([1]①現況報告書!P283=\"\",\"\",[1]①現況報告書!P283)","v":""},{"$nulls":11},{"$f":"IF([1]①現況報告書!AB283=\"\",\"\",[1]①現況報告書!AB283)","v":""},{"$nulls":11},{"$f":"IF([1]①現況報告書!AN283=\"\",\"\",[1]①現況報告書!AN283)","v":""},{"$nulls":11},{"$f":"IF([1]①現況報告書!AZ283=\"\",\"\",[1]①現況報告書!AZ283)","v":""}]
[null,"監査法人",null,{"$f":"IF([1]①現況報告書!D284=\"\",\"\",[1]①現況報告書!D284)","v":""},{"$nulls":11},{"$f":"IF([1]①現況報告書!P284=\"\",\"\",[1]①現況報告書!P284)","v":""},{"$nulls":11},{"$f":"IF([1]①現況報告書!AB284=\"\",\"\",[1]①現況報告書!AB284)","v":""},{"$nulls":11},{"$f":"IF([1]①現況報告書!AN284=\"\",\"\",[1]①現況報告書!AN284)","v":""},{"$nulls":11},{"$f":"IF([1]①現況報告書!AZ284=\"\",\"\",[1]①現況報告書!AZ284)","v":""}]
[null,"税理士",null,{"$f":"IF([1]①現況報告書!D285=\"\",\"\",[1]①現況報告書!D285)","v":""},{"$nulls":11},{"$f":"IF([1]①現況報告書!P285=\"\",\"\",[1]①現況報告書!P285)","v":""},{"$nulls":11},{"$f":"IF([1]①現況報告書!AB285=\"\",\"\",[1]①現況報告書!AB285)","v":""},{"$nulls":11},{"$f":"IF([1]①現況報告書!AN285=\"\",\"\",[1]①現況報告書!AN285)","v":""},{"$nulls":11},{"$f":"IF([1]①現況報告書!AZ285=\"\",\"\",[1]①現況報告書!AZ285)","v":""}]
[null,"その他",null,{"$f":"IF([1]①現況報告書!D286=\"\",\"\",[1]①現況報告書!D286)","v":""},{"$nulls":11},{"$f":"IF([1]①現況報告書!P286=\"\",\"\",[1]①現況報告書!P286)","v":""},{"$nulls":11},{"$f":"IF([1]①現況報告書!AB286=\"\",\"\",[1]①現況報告書!AB286)","v":""},{"$nulls":11},{"$f":"IF([1]①現況報告書!AN286=\"\",\"\",[1]①現況報告書!AN286)","v":""},{"$nulls":11},{"$f":"IF([1]①現況報告書!AZ286=\"\",\"\",[1]①現況報告書!AZ286)","v":""}]
[null,"指摘事項",null,{"$f":"IF([1]①現況報告書!D287=\"\",\"\",[1]①現況報告書!D287)","v":""},{"$nulls":11},{"$f":"IF([1]①現況報告書!P287=\"\",\"\",[1]①現況報告書!P287)","v":""},{"$nulls":11},{"$f":"IF([1]①現況報告書!AB287=\"\",\"\",[1]①現況報告書!AB287)","v":""},{"$nulls":11},{"$f":"IF([1]①現況報告書!AN287=\"\",\"\",[1]①現況報告書!AN287)","v":""},{"$nulls":11},{"$f":"IF([1]①現況報告書!AZ287=\"\",\"\",[1]①現況報告書!AZ287)","v":""}]
["第三者評価",null,null,"受審施設・事業所名",{"$nulls":14},"平成",null,null,null,{"$f":"IF([1]①現況報告書!W288=\"\",\"\",[1]①現況報告書!W288)","v":""},null,null,"年度",null,null,null,"平成",null,null,null,{"$f":"IF([1]①現況報告書!AH288=\"\",\"\",[1]①現況報告書!AH288)","v":""},null,null,"年度",null,null,null,"平成",null,null,null,{"$f":"IF([1]①現況報告書!AS288=\"\",\"\",[1]①現況報告書!AS288)","v":""},null,null,"年度"]
[{"$nulls":22},"費用（千円）",{"$nulls":10},"費用（千円）",{"$nulls":10},"費用（千円）"]
[null,null,null,{"$f":"IF([1]①現況報告書!D290=\"\",\"\",[1]①現況報告書!D290)","v":""},{"$nulls":14},{"$f":"IF([1]①現況報告書!S290=\"\",\"\",[1]①現況報告書!S290)","v":""},{"$nulls":10},{"$f":"IF([1]①現況報告書!AD290=\"\",\"\",[1]①現況報告書!AD290)","v":""},{"$nulls":10},{"$f":"IF([1]①現況報告書!AO290=\"\",\"\",[1]①現況報告書!AO290)","v":""}]
[null,null,null,{"$f":"IF([1]①現況報告書!D291=\"\",\"\",[1]①現況報告書!D291)","v":""},{"$nulls":14},{"$f":"IF([1]①現況報告書!S291=\"\",\"\",[1]①現況報告書!S291)","v":""},{"$nulls":10},{"$f":"IF([1]①現況報告書!AD291=\"\",\"\",[1]①現況報告書!AD291)","v":""},{"$nulls":10},{"$f":"IF([1]①現況報告書!AO291=\"\",\"\",[1]①現況報告書!AO291)","v":""}]
[null,null,null,{"$f":"IF([1]①現況報告書!D292=\"\",\"\",[1]①現況報告書!D292)","v":""},{"$nulls":14},{"$f":"IF([1]①現況報告書!S292=\"\",\"\",[1]①現況報告書!S292)","v":""},{"$nulls":10},{"$f":"IF([1]①現況報告書!AD292=\"\",\"\",[1]①現況報告書!AD292)","v":""},{"$nulls":10},{"$f":"IF([1]①現況報告書!AO292=\"\",\"\",[1]①現況報告書!AO292)","v":""}]
[{"$nulls":53},"平成",null,null,{"$f":"IF([1]①現況報告書!BE293=\"\",\"\",[1]①現況報告書!BE293)","v":27},null,"年3月31日現在"]
["準拠している会計基準",null,null,"社会福祉法人新会計基準",{"$nulls":4},"社会福祉法人旧会計基準",{"$nulls":4},"経理規程準則",{"$nulls":4},"指定介護老人福祉施設等会計処理等取扱指導指針",{"$nulls":4},"訪問看護会計・経理準則",{"$nulls":4},"介護老人保健施設会計・経理準則",{"$nulls":4},"授産会計基準",{"$nulls":4},"就労会計基準",{"$nulls":4},"病院会計準則",{"$nulls":4},"企業会計基準",{"$nulls":4},"その他"]
[null,null,null,{"$f":"IF([1]①現況報告書!D295=\"\",\"\",[1]①現況報告書!D295)","v":""},{"$nulls":4},{"$f":"IF([1]①現況報告書!I295=\"\",\"\",[1]①現況報告書!I295)","v":"○"},{"$nulls":4},{"$f":"IF([1]①現況報告書!N295=\"\",\"\",[1]①現況報告書!N295)","v":""},{"$nulls":4},{"$f":"IF([1]①現況報告書!S295=\"\",\"\",[1]①現況報告書!S295)","v":""},{"$nulls":4},{"$f":"IF([1]①現況報告書!X295=\"\",\"\",[1]①現況報告書!X295)","v":""},{"$nulls":4},{"$f":"IF([1]①現況報告書!AC295=\"\",\"\",[1]①現況報告書!AC295)","v":""},{"$nulls":4},{"$f":"IF([1]①現況報告書!AH295=\"\",\"\",[1]①現況報告書!AH295)","v":""},{"$nulls":4},{"$f":"IF([1]①現況報告書!AM295=\"\",\"\",[1]①現況報告書!AM295)","v":""},{"$nulls":4},{"$f":"IF([1]①現況報告書!AR295=\"\",\"\",[1]①現況報告書!AR295)","v":""},{"$nulls":4},{"$f":"IF([1]①現況報告書!AW295=\"\",\"\",[1]①現況報告書!AW295)","v":""},{"$nulls":4},{"$f":"IF([1]①現況報告書!BB295=\"\",\"\",[1]①現況報告書!BB295)","v":""}]